BEGIN:VCALENDAR
VERSION:2.0
PRODID:-//Suckapunch Productions  - ECPv6.15.20//NONSGML v1.0//EN
CALSCALE:GREGORIAN
METHOD:PUBLISH
X-WR-CALNAME:Suckapunch Productions 
X-ORIGINAL-URL:https://suckapunchproductions.com
X-WR-CALDESC:Events for Suckapunch Productions 
REFRESH-INTERVAL;VALUE=DURATION:PT1H
X-Robots-Tag:noindex
X-PUBLISHED-TTL:PT1H
BEGIN:VTIMEZONE
TZID:UTC
BEGIN:STANDARD
TZOFFSETFROM:+0000
TZOFFSETTO:+0000
TZNAME:UTC
DTSTART:20240101T000000
END:STANDARD
END:VTIMEZONE
BEGIN:VEVENT
DTSTART;TZID=UTC:20251129T160000
DTEND;TZID=UTC:20251129T220000
DTSTAMP:20260421T232125
CREATED:20251019T171706Z
LAST-MODIFIED:20251123T004454Z
UID:10000211-1764432000-1764453600@suckapunchproductions.com
SUMMARY:SKANKSGIVING
DESCRIPTION:SKANKSGIVING\n\n\nSat\, 29 Nov\, 4:30 PM PST\n\nDoors open\n4:00 PM PST\n40242 La Quinta Ln #101\, Palmdale\, CA 93551
URL:https://suckapunchproductions.com/event/skanksgiving/
LOCATION:Transplants Brewing Company\, 40242 La Quinta Ln Unit 101\, Palmdale\, CA\, 93551
ATTACH;FMTTYPE=image/jpeg:https://suckapunchproductions.com/wp-content/uploads/2025/10/SKANKSGIVING-1.jpg
END:VEVENT
END:VCALENDAR