BEGIN:VCALENDAR
VERSION:2.0
PRODID:-//Suckapunch Productions  - ECPv6.15.20//NONSGML v1.0//EN
CALSCALE:GREGORIAN
METHOD:PUBLISH
X-WR-CALNAME:Suckapunch Productions 
X-ORIGINAL-URL:https://suckapunchproductions.com
X-WR-CALDESC:Events for Suckapunch Productions 
REFRESH-INTERVAL;VALUE=DURATION:PT1H
X-Robots-Tag:noindex
X-PUBLISHED-TTL:PT1H
BEGIN:VTIMEZONE
TZID:UTC
BEGIN:STANDARD
TZOFFSETFROM:+0000
TZOFFSETTO:+0000
TZNAME:UTC
DTSTART:20240101T000000
END:STANDARD
END:VTIMEZONE
BEGIN:VEVENT
DTSTART;TZID=UTC:20251101T180000
DTEND;TZID=UTC:20251101T223000
DTSTAMP:20260421T232128
CREATED:20250722T022914Z
LAST-MODIFIED:20250722T022914Z
UID:10000189-1762020000-1762036200@suckapunchproductions.com
SUMMARY:Dskarados Live at Rockstars of Tomorrow
DESCRIPTION:Dskarados Live at Rockstars of Tomorrow\n\nSat Nov 1 2025\n7:00 PM (Doors 6:00 PM)\n\n\nRockstars of Tomorrow\n15776 Main St #11Hesperia\, CA 92345
URL:https://suckapunchproductions.com/event/dskarados-live-at-rockstars-of-tomorrow/
LOCATION:rock stars of tomorrow\, 15776 Main St\, Hesperia\, Ste. 11\, CA 92345\, 92345\, United States
ATTACH;FMTTYPE=image/jpeg:https://suckapunchproductions.com/wp-content/uploads/2025/07/AISelect_20250717_134430_Files-by-Google-1.jpg
END:VEVENT
END:VCALENDAR