BEGIN:VCALENDAR
VERSION:2.0
PRODID:-//Suckapunch Productions  - ECPv6.15.20//NONSGML v1.0//EN
CALSCALE:GREGORIAN
METHOD:PUBLISH
X-WR-CALNAME:Suckapunch Productions 
X-ORIGINAL-URL:https://suckapunchproductions.com
X-WR-CALDESC:Events for Suckapunch Productions 
REFRESH-INTERVAL;VALUE=DURATION:PT1H
X-Robots-Tag:noindex
X-PUBLISHED-TTL:PT1H
BEGIN:VTIMEZONE
TZID:UTC
BEGIN:STANDARD
TZOFFSETFROM:+0000
TZOFFSETTO:+0000
TZNAME:UTC
DTSTART:20240101T000000
END:STANDARD
END:VTIMEZONE
BEGIN:VEVENT
DTSTART;TZID=UTC:20250530T210000
DTEND;TZID=UTC:20250531T010000
DTSTAMP:20260420T063159
CREATED:20250413T215429Z
LAST-MODIFIED:20250528T235221Z
UID:10000138-1748638800-1748653200@suckapunchproductions.com
SUMMARY:03 GREEDO IN MODESTO AT VAULT NIGHTCLUB For Bottle Service text 650 302 5929
DESCRIPTION:03 GREEDO IN MODESTO AT VAULT NIGHTCLUB Fri May 30 20259:00 PMVault Nightclub915 J StreetModesto\, CA 95354
URL:https://suckapunchproductions.com/event/03-greedo-in-modesto-at-vault-nightclub/
LOCATION:Vault Nightclub 915 J Street\, Vault Nightclub 915 J Street CA 95354\, Modesto\,\, CA\, 93561\, United States
ATTACH;FMTTYPE=image/webp:https://suckapunchproductions.com/wp-content/uploads/2025/03/03-greedo-transplants-.suckapunchproductions.webp
END:VEVENT
BEGIN:VEVENT
DTSTART;TZID=UTC:20250531T170000
DTEND;TZID=UTC:20250531T233000
DTSTAMP:20260420T063159
CREATED:20250504T145015Z
LAST-MODIFIED:20250527T112610Z
UID:10000149-1748710800-1748734200@suckapunchproductions.com
SUMMARY:Suckapunch Productions & California Live Present 03 Greedo w/ special guest BabyGas - Live in Oakland at Crybaby (All Ages)
DESCRIPTION:Suckapunch Productions & California Live Present03 Greedo Sat May 31 2025  (Doors 5:00 PM)Crybaby1928 Telegraph AveOakland\, CA 94612 \n  \n 
URL:https://suckapunchproductions.com/event/03-greedo/
LOCATION:cry baby\, 1928 telegraph Ave\, Oakland\, CA\, 94612\, United States
END:VEVENT
BEGIN:VEVENT
DTSTART;TZID=UTC:20250531T190000
DTEND;TZID=UTC:20250531T233000
DTSTAMP:20260420T063159
CREATED:20250509T193411Z
LAST-MODIFIED:20250509T193411Z
UID:10000160-1748718000-1748734200@suckapunchproductions.com
SUMMARY:OUT OF CONTROL ARMY WITH LA POBRESKA MATAMOSKA LA MUERTA A RED SUN LIVE IN CONCERT AT TRANSPLANTS IN PALMDALE
DESCRIPTION:Sat May 31 2025\n7:30 PM (Doors 7:00 PM)\n\n\nTransplants Brewing Company\n40242 La Quinta Ln #101Palmdale\, CA 93551
URL:https://suckapunchproductions.com/event/out-of-control-army-with-la-pobreska-matamoska-la-muerta-a-red-sun-live-in-concert-at-transplants-in-palmdale/
LOCATION:Transplants Brewing Company\, 40242 La Quinta Ln Unit 101\, Palmdale\, CA\, 93551
END:VEVENT
BEGIN:VEVENT
DTSTART;TZID=UTC:20250531T200000
DTEND;TZID=UTC:20250601T010000
DTSTAMP:20260420T063159
CREATED:20250413T224316Z
LAST-MODIFIED:20250528T235432Z
UID:10000139-1748721600-1748739600@suckapunchproductions.com
SUMMARY:03 GREEDO IN SAN JOSE AT MYTH NIGHTCLUB For Bottle Service text 510- 432 2029
DESCRIPTION:03 GREEDO IN SAN JOSE AT MYTH NIGHTCLUB Sat May 31 20258:00 PMMyth Nightclub152 Post St.San Jose\, CA 95113
URL:https://suckapunchproductions.com/event/03-greedo-in-san-jose-at-myth-nightclub/
LOCATION:Myth Nightclub 152 Post St. San Jose\, CA 95113\, Myth Nightclub 152 Post St.\, San Jose\,\, CA\, 35331\, United States
ATTACH;FMTTYPE=image/webp:https://suckapunchproductions.com/wp-content/uploads/2025/03/03-greedo-transplants-.suckapunchproductions.webp
END:VEVENT
BEGIN:VEVENT
DTSTART;TZID=UTC:20250601T180000
DTEND;TZID=UTC:20250601T220000
DTSTAMP:20260420T063159
CREATED:20250413T225626Z
LAST-MODIFIED:20250528T233111Z
UID:10000140-1748800800-1748815200@suckapunchproductions.com
SUMMARY:03 GREEDO IN BRENTWOOD AT THE BRENTWOOD EMPORIUM JUNE 1ST
DESCRIPTION:03 GREEDO  AT THE BRENTWOOD EMPORIUM JUNE 1ST Sun Jun 1 20256:00 PMBrentwood Emporium561 1st St Brentwood\, CA 94513
URL:https://suckapunchproductions.com/event/03-greedo-in-brentwood-at-the-brentwood-emporium-june-1st/
LOCATION:The Brentwood Emporium\, 561 1st St\, Brentwood\, CA\, 94513
END:VEVENT
BEGIN:VEVENT
DTSTART;TZID=UTC:20250601T180000
DTEND;TZID=UTC:20250601T233000
DTSTAMP:20260420T063159
CREATED:20250509T194058Z
LAST-MODIFIED:20250525T202355Z
UID:10000161-1748800800-1748820600@suckapunchproductions.com
SUMMARY:OUT OF CONTROL ARMY WITH LA POBRESKA CREBRO NEGRO LOS P2 THE ODD ADVANTAGE & THE FAULTINES LIVE IN CONCERT AT EL CALENTANO IN RIVERSIDE Info Ticketsv
DESCRIPTION:Sun Jun 1 2025\n6:00 PM (Doors 6:30 PM)\n\n\nEl Calentano\n10390 Arlington AveRiverside\, CA 92505
URL:https://suckapunchproductions.com/event/out-of-control-army-with-la-pobreska-crebro-negro-los-p2-the-odd-advantage-the-faultines-live-in-concert-at-el-calentano-in-riverside-info-ticketsv/
LOCATION:CALENTANO\, 10390 Arlington av\, river side\, CA\, 93551\, United States
END:VEVENT
END:VCALENDAR