BEGIN:VCALENDAR
VERSION:2.0
PRODID:-//Suckapunch Productions  - ECPv6.15.20//NONSGML v1.0//EN
CALSCALE:GREGORIAN
METHOD:PUBLISH
X-WR-CALNAME:Suckapunch Productions 
X-ORIGINAL-URL:https://suckapunchproductions.com
X-WR-CALDESC:Events for Suckapunch Productions 
REFRESH-INTERVAL;VALUE=DURATION:PT1H
X-Robots-Tag:noindex
X-PUBLISHED-TTL:PT1H
BEGIN:VTIMEZONE
TZID:UTC
BEGIN:STANDARD
TZOFFSETFROM:+0000
TZOFFSETTO:+0000
TZNAME:UTC
DTSTART:20240101T000000
END:STANDARD
END:VTIMEZONE
BEGIN:VEVENT
DTSTART;TZID=UTC:20250404T190000
DTEND;TZID=UTC:20250404T230000
DTSTAMP:20260420T083017
CREATED:20250301T162123Z
LAST-MODIFIED:20250301T162425Z
UID:10000110-1743793200-1743807600@suckapunchproductions.com
SUMMARY:VORTXZ LIVE IN CONCERT APRIL 4TH IN SAN DIEGO AT THE CORAZON DEL BARRIO
DESCRIPTION:VORTXZ LIVE IN CONCERT APRIL 4TH IN SAN DIEGO AT THE CORAZON DEL BARRIO Fri Apr 4 20257:00 PMCorazon del Barrio2196 Logan AveSan Diego\, CA 92113 \n 
URL:https://suckapunchproductions.com/event/vortxz-live-in-concert-april-4th-in-san-diego-at-the-corazon-del-barrio/
LOCATION:Corazon del Barrio\, 2196 Logan Ave San Diego\, CA 92113\, San Diego\, CA 92113\, ca\, 92113
ATTACH;FMTTYPE=image/jpeg:https://suckapunchproductions.com/wp-content/uploads/2025/03/c-PersonalVortxz__VortxzMagazineFinal01_1658456128494-e1659146779145-1000x600-1.jpg
END:VEVENT
BEGIN:VEVENT
DTSTART;TZID=UTC:20250405T190000
DTEND;TZID=UTC:20250405T233000
DTSTAMP:20260420T083017
CREATED:20250301T163543Z
LAST-MODIFIED:20250321T174627Z
UID:10000111-1743879600-1743895800@suckapunchproductions.com
SUMMARY:JASON JOSHUA LIVE IN CONCERT AT TRANSPLANTS IN PALMDALE
DESCRIPTION:JASON JOSHUA LIVE IN CONCERT AT TRANSPLANTS IN PALMDALE Transplants Brewing Company40242 La Quinta Ln Unit 101Palmdale\, CA 93551
URL:https://suckapunchproductions.com/event/jason-joshua-live-in-concert-at-transplants-in-palmdale/
LOCATION:Transplants Brewing Company\, 40242 La Quinta Ln Unit 101\, Palmdale\, CA\, 93551
ATTACH;FMTTYPE=image/png:https://suckapunchproductions.com/wp-content/uploads/2025/03/jason-joshua-suckapunch-.png
END:VEVENT
BEGIN:VEVENT
DTSTART;TZID=UTC:20250406T180000
DTEND;TZID=UTC:20250406T230000
DTSTAMP:20260420T083017
CREATED:20250301T164724Z
LAST-MODIFIED:20250321T175158Z
UID:10000112-1743962400-1743980400@suckapunchproductions.com
SUMMARY:T.S.O.L VCS AND UWC Live in Concert at Solaris in Murrieta
DESCRIPTION:JASON JOSHUA LIVE IN CONCERT AT TRANSPLANTS IN PALMDALE Sun Apr 6 20256:00 PMSolaris Beer & Blending41601B Cherry StreetMurrieta\, CA 92562
URL:https://suckapunchproductions.com/event/t-s-o-l-vcs-and-uwc-live-in-concert-at-solaris-in-murrieta/
LOCATION:Solaris Beer & Blending\, 41601B Cherry St\, Murrieta\, CA\, 92562
ATTACH;FMTTYPE=image/png:https://suckapunchproductions.com/wp-content/uploads/2025/03/tsol-suckapuch-.png
END:VEVENT
END:VCALENDAR