BEGIN:VCALENDAR
VERSION:2.0
PRODID:-//Suckapunch Productions  - ECPv6.15.20//NONSGML v1.0//EN
CALSCALE:GREGORIAN
METHOD:PUBLISH
X-WR-CALNAME:Suckapunch Productions 
X-ORIGINAL-URL:https://suckapunchproductions.com
X-WR-CALDESC:Events for Suckapunch Productions 
REFRESH-INTERVAL;VALUE=DURATION:PT1H
X-Robots-Tag:noindex
X-PUBLISHED-TTL:PT1H
BEGIN:VTIMEZONE
TZID:UTC
BEGIN:STANDARD
TZOFFSETFROM:+0000
TZOFFSETTO:+0000
TZNAME:UTC
DTSTART:20240101T000000
END:STANDARD
END:VTIMEZONE
BEGIN:VEVENT
DTSTART;TZID=UTC:20250311T190000
DTEND;TZID=UTC:20250311T233000
DTSTAMP:20260422T113232
CREATED:20240812T163145Z
LAST-MODIFIED:20240821T020126Z
UID:10000051-1741719600-1741735800@suckapunchproductions.com
SUMMARY:EXPLOITED AT LIQUID BREWERY IN SAN LUIS OBISPO
DESCRIPTION:EXPLOITED AT LIQUID BREWERY IN SAN LUIS OBISPO \n\nMarch 11\, 2025\n7:00 PM\n\n\nLiquid Gravity Brewing Company\n675 Clarion Ct San Luis Obispo\, CA 93401
URL:https://suckapunchproductions.com/event/exploited-at-liquid-brewery-in-san-luis-obispo/
LOCATION:Liquid Gravity Brewing Company\, 675 Clarion Ct\, San Luis Obispo\, California\, 93401
CATEGORIES:live music
ATTACH;FMTTYPE=image/jpeg:https://suckapunchproductions.com/wp-content/uploads/2024/08/exploited-2025-tour-.jpeg
END:VEVENT
BEGIN:VEVENT
DTSTART;TZID=UTC:20250314T190000
DTEND;TZID=UTC:20250314T233000
DTSTAMP:20260422T113232
CREATED:20240812T165111Z
LAST-MODIFIED:20250218T182621Z
UID:10000052-1741978800-1741995000@suckapunchproductions.com
SUMMARY:THE EXPLOITED LIVE IN CONCERT TRANSPLANTS BREWING
DESCRIPTION:Fri Mar 14 2025\n7:00 PM (Doors 7:00 PM)\n\n\nTransplants Brewing Company\n40242 La Quinta Ln Unit 101 Palmdale\, CA 93551
URL:https://suckapunchproductions.com/event/the-exploited-live-in-concert-san-bernadino-320-premiere-hall/
LOCATION:Transplants Brewing Company\, 40242 La Quinta Ln Unit 101\, Palmdale\, CA\, 93551
CATEGORIES:live music
ATTACH;FMTTYPE=image/jpeg:https://suckapunchproductions.com/wp-content/uploads/2024/08/exploited-2025-tour-.jpeg
END:VEVENT
END:VCALENDAR