BEGIN:VCALENDAR
VERSION:2.0
PRODID:-//Suckapunch Productions  - ECPv6.15.20//NONSGML v1.0//EN
CALSCALE:GREGORIAN
METHOD:PUBLISH
X-ORIGINAL-URL:https://suckapunchproductions.com
X-WR-CALDESC:Events for Suckapunch Productions 
REFRESH-INTERVAL;VALUE=DURATION:PT1H
X-Robots-Tag:noindex
X-PUBLISHED-TTL:PT1H
BEGIN:VTIMEZONE
TZID:UTC
BEGIN:STANDARD
TZOFFSETFROM:+0000
TZOFFSETTO:+0000
TZNAME:UTC
DTSTART:20240101T000000
END:STANDARD
END:VTIMEZONE
BEGIN:VEVENT
DTSTART;TZID=UTC:20250220T190000
DTEND;TZID=UTC:20250220T233000
DTSTAMP:20260422T110358
CREATED:20250103T113831Z
LAST-MODIFIED:20250103T113909Z
UID:10000099-1740078000-1740094200@suckapunchproductions.com
SUMMARY:GUTTERMOUTH LIVE IN CONCERT AT THE WHISKEY BARREL IN HESPERIA
DESCRIPTION:GUTTERMOUTH LIVE IN CONCERT AT THE WHISKEY BARREL IN HESPERIA Thu Feb 20 20257:00 PMThe Whiskey Barrel12055 Mariposa RdHesperia\, CA 92345
URL:https://suckapunchproductions.com/event/guttermouth-live-in-concert-at-the-whiskey-barrel-in-hesperia/
LOCATION:th whisky barrel\, 12055 Mariposa Rd\,\, Hesperia\,\, 92345\, United States
CATEGORIES:live music
ATTACH;FMTTYPE=image/png:https://suckapunchproductions.com/wp-content/uploads/2025/01/GUTTERMOUTH-LIVE-IN-CONCERT-AT-THE-WHISKEY-BARREL-IN-HESPERIA.png
END:VEVENT
END:VCALENDAR