BEGIN:VCALENDAR
VERSION:2.0
PRODID:-//Suckapunch Productions  - ECPv6.15.20//NONSGML v1.0//EN
CALSCALE:GREGORIAN
METHOD:PUBLISH
X-WR-CALNAME:Suckapunch Productions 
X-ORIGINAL-URL:https://suckapunchproductions.com
X-WR-CALDESC:Events for Suckapunch Productions 
REFRESH-INTERVAL;VALUE=DURATION:PT1H
X-Robots-Tag:noindex
X-PUBLISHED-TTL:PT1H
BEGIN:VTIMEZONE
TZID:UTC
BEGIN:STANDARD
TZOFFSETFROM:+0000
TZOFFSETTO:+0000
TZNAME:UTC
DTSTART:20240101T000000
END:STANDARD
END:VTIMEZONE
BEGIN:VEVENT
DTSTART;TZID=UTC:20250110T190000
DTEND;TZID=UTC:20250110T233000
DTSTAMP:20260422T130100
CREATED:20241001T204645Z
LAST-MODIFIED:20241001T204645Z
UID:10000070-1736535600-1736551800@suckapunchproductions.com
SUMMARY:LIVE IN CONCERT VENOM INC AT BRENT WOOD EMPORIUM
DESCRIPTION:LIVE IN CONCERT VENOM INC AT BRENT WOOD EMPORIUM Fri Jan 10 20257:00 PM DoorsBrentwood Emporium561 1st StBrentwood\, CA 94513
URL:https://suckapunchproductions.com/event/live-in-concert-venom-inc-at-brent-wood-emporium/
LOCATION:The Brentwood Emporium\, 561 1st St\, Brentwood\, CA\, 94513
CATEGORIES:live music
ATTACH;FMTTYPE=image/jpeg:https://suckapunchproductions.com/wp-content/uploads/2024/10/venom-ink-suckapunch-productions-.jpg
END:VEVENT
BEGIN:VEVENT
DTSTART;TZID=UTC:20250110T190000
DTEND;TZID=UTC:20250110T233000
DTSTAMP:20260422T130100
CREATED:20241210T200607Z
LAST-MODIFIED:20241210T200750Z
UID:10000093-1736535600-1736551800@suckapunchproductions.com
SUMMARY:SWINGIN' UTTERS LIVE IN CONCERT JAN 10TH IN OXNARD AT MRS OLSONS
DESCRIPTION:SWINGIN’ UTTERS LIVE IN CONCERT JAN 10TH IN OXNARD AT MRS OLSONS Fri Jan 10 20257:00 PMMrs Olsons2800 Harbor Blvd\, Ste A Oxnard\, CA 93035
URL:https://suckapunchproductions.com/event/swingin-utters-live-in-concert-jan-10th-in-oxnard-at-mrs-olsons/
LOCATION:Mrs. Olson’s\, 2800 Harbor Blvd\, Oxnard\, CA\, 93035
CATEGORIES:live music
ATTACH;FMTTYPE=image/png:https://suckapunchproductions.com/wp-content/uploads/2024/12/swinging-udder-suckapunchproductions-.png
END:VEVENT
BEGIN:VEVENT
DTSTART;TZID=UTC:20250111T190000
DTEND;TZID=UTC:20250111T233000
DTSTAMP:20260422T130100
CREATED:20240812T062452Z
LAST-MODIFIED:20241024T163223Z
UID:10000042-1736622000-1736638200@suckapunchproductions.com
SUMMARY:BLACK FLAG PERFORMING THE FIRST 4 ALBUMS LIVE IN CONCERT AT THE VETS HALL IN SANTA CRUZ
DESCRIPTION:BLACK FLAG PERFORMING THE FIRST 4 ALBUMS LIVE IN CONCERT AT THE VETS HALL IN SANTA CRUZ \n\nJanuary 11\, 2025\n7:00 PM\n\n\nSanta Cruz Veterans Hall\n846 Front Street Santa Cruz\, CA 95060
URL:https://suckapunchproductions.com/event/black-flag-performing-the-first-4-albums-live-in-concert-at-the-vets-hall-in-santa-cruz/
LOCATION:Vets Hall Santa Cruz\, 846 Front St\, Santa Cruz\, CA\, 95060
CATEGORIES:live music
ATTACH;FMTTYPE=image/jpeg:https://suckapunchproductions.com/wp-content/uploads/2024/08/462636571_585579973809947_4874318998210994147_n-scaled.jpg
END:VEVENT
BEGIN:VEVENT
DTSTART;TZID=UTC:20250111T190000
DTEND;TZID=UTC:20250111T233000
DTSTAMP:20260422T130100
CREATED:20241001T205229Z
LAST-MODIFIED:20241001T205229Z
UID:10000071-1736622000-1736638200@suckapunchproductions.com
SUMMARY:LIVE IN CONCERT VENOM INC AT FULL CIRCLE BREWING
DESCRIPTION:LIVE IN CONCERT VENOM INC AT FULL CIRCLE BREWING Sat Jan 11 20257:00 PM DoorsFull Circle Brewing712 Fulton StFresno\, CA 93721
URL:https://suckapunchproductions.com/event/live-in-concert-venom-inc-at-full-circle-brewing/
LOCATION:Full Circle Brewing Co.\, 712 Fulton St\, Fresno\, CA\, 93721
CATEGORIES:live music
ATTACH;FMTTYPE=image/jpeg:https://suckapunchproductions.com/wp-content/uploads/2024/10/venom-ink-suckapunch-productions-.jpg
END:VEVENT
BEGIN:VEVENT
DTSTART;TZID=UTC:20250112T183000
DTEND;TZID=UTC:20250112T233000
DTSTAMP:20260422T130100
CREATED:20240812T063713Z
LAST-MODIFIED:20241024T163521Z
UID:10000043-1736706600-1736724600@suckapunchproductions.com
SUMMARY:BLACK FLAG PERFORMING THE FIRST 4 ALBUMS IN BRENTWOOD AT THE BRENTWOOD EMPORIUM
DESCRIPTION:BLACK FLAG PERFORMING THE FIRST 4 ALBUMS IN BRENTWOOD AT THE BRENTWOOD EMPORIUM \n\nJanuary 12\, 2025\n6:30 PM\n\n\nBrentwood Emporium\n561 1st St Brentwood\, CA 94513
URL:https://suckapunchproductions.com/event/black-flag-performing-the-first-4-albums-in-brentwood-at-the-brentwood-emporium/
LOCATION:The Brentwood Emporium\, 561 1st St\, Brentwood\, CA\, 94513
CATEGORIES:live music
ATTACH;FMTTYPE=image/jpeg:https://suckapunchproductions.com/wp-content/uploads/2024/08/462567718_1248698126324321_5757298936328217832_n-scaled.jpg
END:VEVENT
END:VCALENDAR