BEGIN:VCALENDAR
VERSION:2.0
PRODID:-//Suckapunch Productions  - ECPv6.15.20//NONSGML v1.0//EN
CALSCALE:GREGORIAN
METHOD:PUBLISH
X-WR-CALNAME:Suckapunch Productions 
X-ORIGINAL-URL:https://suckapunchproductions.com
X-WR-CALDESC:Events for Suckapunch Productions 
REFRESH-INTERVAL;VALUE=DURATION:PT1H
X-Robots-Tag:noindex
X-PUBLISHED-TTL:PT1H
BEGIN:VTIMEZONE
TZID:UTC
BEGIN:STANDARD
TZOFFSETFROM:+0000
TZOFFSETTO:+0000
TZNAME:UTC
DTSTART:20230101T000000
END:STANDARD
END:VTIMEZONE
BEGIN:VEVENT
DTSTART;TZID=UTC:20241107T190000
DTEND;TZID=UTC:20241107T233000
DTSTAMP:20260422T231640
CREATED:20241013T011810Z
LAST-MODIFIED:20241024T161539Z
UID:10000083-1731006000-1731022200@suckapunchproductions.com
SUMMARY:LIVE IN CONCERT T.S.O.L AT THE SIREN MORRO BAY
DESCRIPTION:Thu Nov 7 2024\n8:00 PM (Doors 7:00 PM)\n\n\nThe Siren\n900 Main St Morro Bay\, CA 93442 \n\n 
URL:https://suckapunchproductions.com/event/live-in-concert-t-s-o-l-at-the-siren-morro-bay/
LOCATION:the siren morrow bay\, 900 Main St\, Morro Bay\, CA 93442\, ca\, 93442
ATTACH;FMTTYPE=image/jpeg:https://suckapunchproductions.com/wp-content/uploads/2024/10/462567714_1918547165316460_1930172534516711018_n-scaled.jpg
END:VEVENT
BEGIN:VEVENT
DTSTART;TZID=UTC:20241108T200000
DTEND;TZID=UTC:20241108T200000
DTSTAMP:20260422T231640
CREATED:20241007T172346Z
LAST-MODIFIED:20241028T161244Z
UID:10000076-1731096000-1731096000@suckapunchproductions.com
SUMMARY:LIVE IN CONCERT T.S.O.L AT BLUE LAGOON
DESCRIPTION:LIVE IN CONCERT T.S.O.L AT BLUE LAGOON \n\nFriday\, Nov 8 2024\n8:00 PM (Doors 7:00 PM)\n\n\nBlue Lagoon\n923 Pacific Ave Santa Cruz\, CA 95060
URL:https://suckapunchproductions.com/event/live-in-concert-t-s-o-l-at-blue-lagoon/
LOCATION:The Blue Lagoon\, 923 Pacific Ave\, Santa Cruz\, CA 95060
CATEGORIES:live music
ATTACH;FMTTYPE=image/jpeg:https://suckapunchproductions.com/wp-content/uploads/2024/10/462546458_928611682489391_6804285817265735792_n-scaled.jpg
END:VEVENT
BEGIN:VEVENT
DTSTART;TZID=UTC:20241108T200000
DTEND;TZID=UTC:20241108T233000
DTSTAMP:20260422T231640
CREATED:20241023T152308Z
LAST-MODIFIED:20241027T113851Z
UID:10000085-1731096000-1731108600@suckapunchproductions.com
SUMMARY:NB RIDAZ LIVE IN CONCERT IN CLUB 805
DESCRIPTION:NB RiDAZ LIVE IN CONCERT club 805 in Santa Barbara 423 state st \n\n\nNB RIDAZ LIVE IN CONCERT IN CLUB 805\n\n\n\n\n\n\n\nFriday\, Nov 8 2024\n8:00 PM (Doors 7:00 PM)\n\n423 State StreetSanta Barbara\, CA 93101
URL:https://suckapunchproductions.com/event/nb-rydaz-live-in-concert-in-club-805/
LOCATION:club 805\, 423 state st\, Santa Barbara\, CA\, 93101\, United States
CATEGORIES:live art
ATTACH;FMTTYPE=image/jpeg:https://suckapunchproductions.com/wp-content/uploads/2024/10/1d1698f3-6d96-4357-85bf-d2c09487bd83-1.jpeg
END:VEVENT
BEGIN:VEVENT
DTSTART;TZID=UTC:20241109T200000
DTEND;TZID=UTC:20241109T200000
DTSTAMP:20260422T231640
CREATED:20241007T173513Z
LAST-MODIFIED:20241026T002603Z
UID:10000077-1731182400-1731182400@suckapunchproductions.com
SUMMARY:LIVE IN CONCERT T.S.O.L AT FULL CIRCLE BREWING
DESCRIPTION:LIVE IN CONCERT T.S.O.L AT FULL CIRCLE BREWING \n\nSaturday\, Nov 9 2024\n8:00 PM (Doors 7:00 PM)\n\n\nFull Circle Brewing\n712 Fulton St Fresno\, CA 93721
URL:https://suckapunchproductions.com/event/live-in-concert-t-s-o-l-at-full-circle-brewing/
LOCATION:Full Circle Brewing Co.\, 712 Fulton St\, Fresno\, CA\, 93721
CATEGORIES:live music
ATTACH;FMTTYPE=image/jpeg:https://suckapunchproductions.com/wp-content/uploads/2024/10/462561556_430730813465418_489934691152032298_n-scaled.jpg
END:VEVENT
BEGIN:VEVENT
DTSTART;TZID=UTC:20241109T200000
DTEND;TZID=UTC:20241109T233000
DTSTAMP:20260422T231640
CREATED:20241007T050059Z
LAST-MODIFIED:20241007T050059Z
UID:10000073-1731182400-1731195000@suckapunchproductions.com
SUMMARY:Sucka Punch Productions NEKROMANTIX WITH NIIS AND DARK WAVE
DESCRIPTION:Sucka Punch ProductionsNEKROMANTIX WITH NIIS AND DARK WAVE \n\nSat Nov 9 2024\n8:00 PM\n\n\nTransplants Brewing Company\n40242 La Quinta Ln Unit 101Palmdale\, CA 93551
URL:https://suckapunchproductions.com/event/sucka-punch-productions-nekromantix-with-niis-and-dark-wave/
LOCATION:Transplants Brewing Company\, 40242 La Quinta Ln Unit 101\, Palmdale\, CA\, 93551
CATEGORIES:live art
ATTACH;FMTTYPE=image/png:https://suckapunchproductions.com/wp-content/uploads/2024/10/Sucka-Punch-Productions-NEKROMANTIX-WITH-NIIS-AND-DARK-WAVE.png
END:VEVENT
BEGIN:VEVENT
DTSTART;TZID=UTC:20241110T200000
DTEND;TZID=UTC:20241110T200000
DTSTAMP:20260422T231640
CREATED:20241007T180626Z
LAST-MODIFIED:20241024T162350Z
UID:10000078-1731268800-1731268800@suckapunchproductions.com
SUMMARY:LIVE IN CONCERT T.S.O.L AT BRENT WOOD EMPORIUM
DESCRIPTION:LIVE IN CONCERT T.S.O.L AT BRENT WOOD EMPORIUM \n\nSunday\, Nov 10 2024\n8:00 PM (Doors 7:00 PM)\n\n\nBrentwood Emporium\n561 1st St Brentwood\, CA 94513
URL:https://suckapunchproductions.com/event/live-in-concert-t-s-o-l-at-brent-wood-emporium/
LOCATION:The Brentwood Emporium\, 561 1st St\, Brentwood\, CA\, 94513
END:VEVENT
END:VCALENDAR