BEGIN:VCALENDAR
VERSION:2.0
PRODID:-//Suckapunch Productions  - ECPv6.15.20//NONSGML v1.0//EN
CALSCALE:GREGORIAN
METHOD:PUBLISH
X-ORIGINAL-URL:https://suckapunchproductions.com
X-WR-CALDESC:Events for Suckapunch Productions 
REFRESH-INTERVAL;VALUE=DURATION:PT1H
X-Robots-Tag:noindex
X-PUBLISHED-TTL:PT1H
BEGIN:VTIMEZONE
TZID:UTC
BEGIN:STANDARD
TZOFFSETFROM:+0000
TZOFFSETTO:+0000
TZNAME:UTC
DTSTART:20230101T000000
END:STANDARD
END:VTIMEZONE
BEGIN:VEVENT
DTSTART;TZID=UTC:20241015T190000
DTEND;TZID=UTC:20241015T233000
DTSTAMP:20260423T004230
CREATED:20240617T142934Z
LAST-MODIFIED:20240816T001737Z
UID:10000030-1729018800-1729035000@suckapunchproductions.com
SUMMARY:D.R.I. LIVE IN CONCERT AT MRS OLSONS IN OXNARD
DESCRIPTION:D.R.I. LIVE IN CONCERT AT MRS OLSONS IN OXNARD \n\nOctober 15 2024\n7:00 PM\n\n\nMrs Olsons\n2800 Harbor Blvd\, Ste A Oxnard\, CA 93035
URL:https://suckapunchproductions.com/event/d-r-i-live-in-concert-at-mrs-olsons-in-oxnard/
LOCATION:Mrs. Olson’s\, 2800 Harbor Blvd\, Oxnard\, CA\, 93035
CATEGORIES:live music
ATTACH;FMTTYPE=image/jpeg:https://suckapunchproductions.com/wp-content/uploads/2024/03/DRI-suckapunch-.jpg
END:VEVENT
BEGIN:VEVENT
DTSTART;TZID=UTC:20241016T180000
DTEND;TZID=UTC:20241016T233000
DTSTAMP:20260423T004230
CREATED:20240905T003024Z
LAST-MODIFIED:20240905T003913Z
UID:10000063-1729101600-1729121400@suckapunchproductions.com
SUMMARY:D.R.I WITH SCATTERED GUTS INFIRMITIES FOOL FOR A LIFETIME FLATSPOTS
DESCRIPTION:D.R.I WITH SCATTERED GUTS INFIRMITIES FOOL FOR A LIFETIME FLATSPOTS \n\nWednesday\, October 16\, 2024\n6:00 PM\n\n\nJerry’s Pizza\n1817 Chester Ave Bakersfield\, CA 93301
URL:https://suckapunchproductions.com/event/d-r-i-with-scattered-guts-infirmities-fool-for-a-lifetime-flatspots/
LOCATION:Jerrys Pizza & Pub\, 1817 Chester Ave\, Bakersfield\, CA\, 93301
CATEGORIES:live music
ATTACH;FMTTYPE=image/jpeg:https://suckapunchproductions.com/wp-content/uploads/2024/09/1921035195970152773.jpg
END:VEVENT
BEGIN:VEVENT
DTSTART;TZID=UTC:20241016T190000
DTEND;TZID=UTC:20241016T233000
DTSTAMP:20260423T004230
CREATED:20240816T013654Z
LAST-MODIFIED:20240816T014836Z
UID:10000054-1729105200-1729121400@suckapunchproductions.com
SUMMARY:ROTTENNESS LIVE IN CONCERT AT BANCROFT
DESCRIPTION:ROTTENNESS LIVE IN CONCERT AT BANCROFT \n\nOctober 16\, 2024\n8:00 PM (Doors 7:00 PM)\n\n\nBancroft Bar\n9143 Campo Rd Spring Valley\, CA 91977
URL:https://suckapunchproductions.com/event/rottenness-live-in-concert-at-bancroft/
LOCATION:The Bancroft Bar\, 9143 Campo Rd\, Spring Valley\, CA\, 91977
CATEGORIES:live music
ATTACH;FMTTYPE=image/png:https://suckapunchproductions.com/wp-content/uploads/2024/08/ROTTENNESS-LIVE-IN-CONCERT-AT-BANCROFT-1.png
END:VEVENT
BEGIN:VEVENT
DTSTART;TZID=UTC:20241017T183000
DTEND;TZID=UTC:20241017T183000
DTSTAMP:20260423T004230
CREATED:20240912T012747Z
LAST-MODIFIED:20240912T012851Z
UID:10000065-1729189800-1729189800@suckapunchproductions.com
SUMMARY:Rottenness live in concert at Bricks Bar
DESCRIPTION:Rottenness live in concert at Bricks Bar \n\nThursday\, October 17\, 2024\n6:30 PM\n\n\nBrick’s Sports Bar\n3626 Fruitland Ave Maywood\, CA 90270
URL:https://suckapunchproductions.com/event/rottenness-live-in-concert-at-bricks-bar/
LOCATION:Bricks Restaurant & Sports Bar\, 3626 Fruitland Ave\, Maywood\, CA\, 90270
CATEGORIES:live music
ATTACH;FMTTYPE=image/png:https://suckapunchproductions.com/wp-content/uploads/2024/08/ROTTENNESS-LIVE-IN-CONCERT-AT-BANCROFT-1.png
END:VEVENT
BEGIN:VEVENT
DTSTART;TZID=UTC:20241017T190000
DTEND;TZID=UTC:20241017T190000
DTSTAMP:20260423T004230
CREATED:20240617T143920Z
LAST-MODIFIED:20240816T002530Z
UID:10000031-1729191600-1729191600@suckapunchproductions.com
SUMMARY:D.R.I. LIVE IN CONCERT AT FULL CIRCLE IN FRESNO
DESCRIPTION:D.R.I. LIVE IN CONCERT AT FULL CIRCLE IN FRESNO \n\nOctober 17 2024\n7:00 PM\n\n\nFull Circle Brewing\n712 Fulton St Fresno\, CA 93721
URL:https://suckapunchproductions.com/event/d-r-i-live-in-concert-at-full-circle-in-fresno/
LOCATION:Full Circle Brewing Co.\, 712 Fulton St\, Fresno\, CA\, 93721
CATEGORIES:live music
ATTACH;FMTTYPE=image/jpeg:https://suckapunchproductions.com/wp-content/uploads/2024/03/DRI-suckapunch-.jpg
END:VEVENT
BEGIN:VEVENT
DTSTART;TZID=UTC:20241018T193000
DTEND;TZID=UTC:20241018T233000
DTSTAMP:20260423T004230
CREATED:20240816T015959Z
LAST-MODIFIED:20240816T020210Z
UID:10000055-1729279800-1729294200@suckapunchproductions.com
SUMMARY:ROTTNESS LIVE IN CONCERT AT BASTARDS CANTEEN
DESCRIPTION:ROTTNESS LIVE IN CONCERT AT BASTARDS \n\nOctober 18\, 2024\n8:30 PM (Doors 7:30 PM)\n\n\nBastards Canteen\n27717 Jefferson Ave Temecula\, CA 92590
URL:https://suckapunchproductions.com/event/rottness-live-in-concert-at-bastards/
LOCATION:Bastards Canteen\, 27717 Jefferson Ave\, Temecula\, CA\, 92590
CATEGORIES:live music
ATTACH;FMTTYPE=image/png:https://suckapunchproductions.com/wp-content/uploads/2024/08/ROTTENNESS-LIVE-IN-CONCERT-AT-BANCROFT.png
END:VEVENT
BEGIN:VEVENT
DTSTART;TZID=UTC:20241020T190000
DTEND;TZID=UTC:20241020T233000
DTSTAMP:20260423T004230
CREATED:20240816T021336Z
LAST-MODIFIED:20240816T021738Z
UID:10000056-1729450800-1729467000@suckapunchproductions.com
SUMMARY:ROTTNESS LIVE IN CONCERT AT FULL CIRCLE
DESCRIPTION:ROTTNESS LIVE IN CONCERT AT FULL CIRCLE \n\nOctober 20\, 2024\n8:00 PM (Doors 7:00 PM)\n\n\nFull Circle Brewing\n712 Fulton St Fresno\, CA 93721
URL:https://suckapunchproductions.com/event/rottness-live-in-concert-at-full-circle/
LOCATION:Full Circle Brewing Co.\, 712 Fulton St\, Fresno\, CA\, 93721
CATEGORIES:live music
ATTACH;FMTTYPE=image/png:https://suckapunchproductions.com/wp-content/uploads/2024/08/ROTTENNESS-LIVE-IN-CONCERT-AT-BANCROFT.png
END:VEVENT
END:VCALENDAR