BEGIN:VCALENDAR
VERSION:2.0
PRODID:-//Suckapunch Productions  - ECPv6.15.20//NONSGML v1.0//EN
CALSCALE:GREGORIAN
METHOD:PUBLISH
X-WR-CALNAME:Suckapunch Productions 
X-ORIGINAL-URL:https://suckapunchproductions.com
X-WR-CALDESC:Events for Suckapunch Productions 
REFRESH-INTERVAL;VALUE=DURATION:PT1H
X-Robots-Tag:noindex
X-PUBLISHED-TTL:PT1H
BEGIN:VTIMEZONE
TZID:UTC
BEGIN:STANDARD
TZOFFSETFROM:+0000
TZOFFSETTO:+0000
TZNAME:UTC
DTSTART:20230101T000000
END:STANDARD
END:VTIMEZONE
BEGIN:VEVENT
DTSTART;TZID=UTC:20241008T190000
DTEND;TZID=UTC:20241008T233000
DTSTAMP:20260423T045117
CREATED:20240615T000359Z
LAST-MODIFIED:20240816T000508Z
UID:10000027-1728414000-1728430200@suckapunchproductions.com
SUMMARY:D.R.I. LIVE IN CONCERT AT THE FLYWAY IN POMONA
DESCRIPTION:D.R.I. LIVE IN CONCERT AT THE FLYWAY IN POMONA \n\nOctober 8 2024\n7:00 PM -11:30 PM\n\n\nFlyway\n345 S Garey Ave Pomona\, CA 91766
URL:https://suckapunchproductions.com/event/d-r-i-live-in-concert-at-the-flyway-in-pomona/
LOCATION:Flyway Bar\, 345 S Garey Ave\, Pomona\, CA\, 91766
CATEGORIES:live music
ATTACH;FMTTYPE=image/jpeg:https://suckapunchproductions.com/wp-content/uploads/2024/03/DRI-suckapunch-.jpg
END:VEVENT
BEGIN:VEVENT
DTSTART;TZID=UTC:20241009T180000
DTEND;TZID=UTC:20241009T180000
DTSTAMP:20260423T045117
CREATED:20240617T140602Z
LAST-MODIFIED:20240903T150630Z
UID:10000028-1728496800-1728496800@suckapunchproductions.com
SUMMARY:D.R.I. LIVE IN CONCERT AT SOLARIS IN MURRIETA
DESCRIPTION:D.R.I. LIVE IN CONCERT AT SOLARIS IN MURRIETA \n  \n\nOctober 9 2024\n6:00 PM\n\n\nSolaris Beer & Blending\n41601B Cherry Street Murrieta\, CA 92562
URL:https://suckapunchproductions.com/event/d-r-i-live-in-concert-at-solaris-in-murrieta/
LOCATION:Solaris Beer & Blending\, 41601B Cherry St\, Murrieta\, CA\, 92562
CATEGORIES:live music
ATTACH;FMTTYPE=image/jpeg:https://suckapunchproductions.com/wp-content/uploads/2024/03/DRI-suckapunch-.jpg
END:VEVENT
BEGIN:VEVENT
DTSTART;TZID=UTC:20241010T190000
DTEND;TZID=UTC:20241010T233000
DTSTAMP:20260423T045117
CREATED:20240617T141334Z
LAST-MODIFIED:20240816T001026Z
UID:10000029-1728586800-1728603000@suckapunchproductions.com
SUMMARY:D.R.I. LIVE IN CONCERT AT TRANSPLANTS IN PALMDALE
DESCRIPTION:D.R.I. LIVE IN CONCERT AT TRANSPLANTS IN PALMDALE \n\nOctober 10 2024\n7:00 PM\n\n\nTransplants Brewing Company\n40242 La Quinta Ln Unit 101Palmdale\, CA 93551
URL:https://suckapunchproductions.com/event/d-r-i-live-in-concert-at-transplants-in-palmdale/
LOCATION:Transplants Brewing Company\, 40242 La Quinta Ln Unit 101\, Palmdale\, CA\, 93551
CATEGORIES:live music
ATTACH;FMTTYPE=image/jpeg:https://suckapunchproductions.com/wp-content/uploads/2024/03/DRI-suckapunch-.jpg
END:VEVENT
END:VCALENDAR