BEGIN:VCALENDAR
VERSION:2.0
PRODID:-//Suckapunch Productions  - ECPv6.15.20//NONSGML v1.0//EN
CALSCALE:GREGORIAN
METHOD:PUBLISH
X-ORIGINAL-URL:https://suckapunchproductions.com
X-WR-CALDESC:Events for Suckapunch Productions 
REFRESH-INTERVAL;VALUE=DURATION:PT1H
X-Robots-Tag:noindex
X-PUBLISHED-TTL:PT1H
BEGIN:VTIMEZONE
TZID:UTC
BEGIN:STANDARD
TZOFFSETFROM:+0000
TZOFFSETTO:+0000
TZNAME:UTC
DTSTART:20230101T000000
END:STANDARD
END:VTIMEZONE
BEGIN:VEVENT
DTSTART;TZID=UTC:20240920T170000
DTEND;TZID=UTC:20240920T233000
DTSTAMP:20260423T010539
CREATED:20240619T005128Z
LAST-MODIFIED:20240815T234136Z
UID:10000033-1726851600-1726875000@suckapunchproductions.com
SUMMARY:CONFLICT & VARUKERS LIVE IN CONCERT AT SOLARIS IN MURRIETA WITH NO CONSENT
DESCRIPTION:CONFLICT & VARUKERS LIVE IN CONCERT AT SOLARIS IN MURRIETA WITH NO CONSENT \n\nFri Sep 20 2024\n5:00 PM – 11:30 PM\n\n\nSolaris Beer & Blending\n41601B Cherry Street Murrieta\, CA 92562
URL:https://suckapunchproductions.com/event/conflict-varukers-live-in-concert-at-solaris-in-murrieta-with-no-consent/
LOCATION:Solaris Beer & Blending\, 41601B Cherry St\, Murrieta\, CA\, 92562
CATEGORIES:live music
ATTACH;FMTTYPE=image/png:https://suckapunchproductions.com/wp-content/uploads/2024/06/CONFLICT-VARUKERS-LIVE-IN-CONCERT-AT-SOLARIS-IN-MURRIETA.png
END:VEVENT
END:VCALENDAR