BEGIN:VCALENDAR
VERSION:2.0
PRODID:-//Suckapunch Productions  - ECPv6.15.20//NONSGML v1.0//EN
CALSCALE:GREGORIAN
METHOD:PUBLISH
X-ORIGINAL-URL:https://suckapunchproductions.com
X-WR-CALDESC:Events for Suckapunch Productions 
REFRESH-INTERVAL;VALUE=DURATION:PT1H
X-Robots-Tag:noindex
X-PUBLISHED-TTL:PT1H
BEGIN:VTIMEZONE
TZID:UTC
BEGIN:STANDARD
TZOFFSETFROM:+0000
TZOFFSETTO:+0000
TZNAME:UTC
DTSTART:20230101T000000
END:STANDARD
END:VTIMEZONE
BEGIN:VEVENT
DTSTART;TZID=UTC:20240905T190000
DTEND;TZID=UTC:20240905T233000
DTSTAMP:20260423T012035
CREATED:20240821T011437Z
LAST-MODIFIED:20240821T011437Z
UID:10000060-1725562800-1725579000@suckapunchproductions.com
SUMMARY:SONIC BOOM 6 WITH LA POBRESKA AND BAR FIGHT GRANDE LIVE IN CONCERT AT TRANSPLANTS IN PALMDALE
DESCRIPTION:SONIC BOOM 6 WITH LA POBRESKA AND BAR FIGHT GRANDE LIVE IN CONCERT AT TRANSPLANTS IN PALMDALE \n\nSeptember 5\, 2024\n7:00 PM\n\n\nTransplants Brewing Company\n40242 La Quinta Ln Unit 101Palmdale\, CA 93551
URL:https://suckapunchproductions.com/event/sonic-boom-6-with-la-pobreska-and-bar-fight-grande-live-in-concert-at-transplants-in-palmdale-2/
LOCATION:Transplants Brewing Company\, 40242 La Quinta Ln Unit 101\, Palmdale\, CA\, 93551
CATEGORIES:live music
ATTACH;FMTTYPE=image/png:https://suckapunchproductions.com/wp-content/uploads/2024/08/33_Edp.jpg.png
END:VEVENT
BEGIN:VEVENT
DTSTART;TZID=UTC:20240906T173000
DTEND;TZID=UTC:20240906T233000
DTSTAMP:20260423T012035
CREATED:20240820T065841Z
LAST-MODIFIED:20240820T070323Z
UID:10000058-1725643800-1725665400@suckapunchproductions.com
SUMMARY:ADHESIVO WITH THE ODD ADVANTAGE AND RASTACALI
DESCRIPTION:ADHESIVO WITH THE ODD ADVANTAGE AND RASTACALI \n\nSeptember 6\, 2024\n5:30 PM\n\n\nSolaris Beer & Blending\n41601B Cherry StreetMurrieta\, CA 92562
URL:https://suckapunchproductions.com/event/adhesivo-with-the-odd-advantage-and-rastacali/
LOCATION:Solaris Beer & Blending\, 41601B Cherry St\, Murrieta\, CA\, 92562
CATEGORIES:live music
ATTACH;FMTTYPE=image/png:https://suckapunchproductions.com/wp-content/uploads/2024/08/43_Edp.png
END:VEVENT
BEGIN:VEVENT
DTSTART;TZID=UTC:20240906T190000
DTEND;TZID=UTC:20240906T233000
DTSTAMP:20260423T012035
CREATED:20240704T151951Z
LAST-MODIFIED:20240815T233352Z
UID:10000039-1725649200-1725665400@suckapunchproductions.com
SUMMARY:SUGA FREE LIVE IN CONCERT AT TRANSPLANTS IN PALMDALE
DESCRIPTION:SUGA FREE LIVE IN CONCERT AT TRANSPLANTS IN PALMDALE \n\nFri Sep 6 2024\n7:00 PM\n\n\nTransplants Brewing Company\n40242 La Quinta Ln Unit 101Palmdale\, CA 93551 \n\n\nAll Ages
URL:https://suckapunchproductions.com/event/suga-free-live-in-concert-at-transplants-in-palmdale/
LOCATION:Transplants Brewing Company\, 40242 La Quinta Ln Unit 101\, Palmdale\, CA\, 93551
CATEGORIES:live music,networking
ATTACH;FMTTYPE=image/jpeg:https://suckapunchproductions.com/wp-content/uploads/2024/07/Sucka-Punch-Productions-SUGA-FREE-LIVE-IN-CONCERT-AT-TRANSPLANTS-IN-PALMDALE.jpeg
END:VEVENT
BEGIN:VEVENT
DTSTART;TZID=UTC:20240907T190000
DTEND;TZID=UTC:20240907T233000
DTSTAMP:20260423T012035
CREATED:20240820T072805Z
LAST-MODIFIED:20240906T015123Z
UID:10000059-1725735600-1725751800@suckapunchproductions.com
SUMMARY:ADHESIVO WITH SONIC BOOM 6 LA POBRESKA AND CEREBRO NEGRO LIVE IN CONCERT AT THE 320 PREMIER HALL IN SAN BERNADINO
DESCRIPTION:ADHESIVO WITH SONIC BOOM 6 LA POBRESKA AND CEREBRO NEGRO LIVE IN CONCERT AT THE 320 PREMIER HALL IN SAN BERNADINO \n  \n\nSeptember 7\, 2024\n7:00 PM\n\n\nThe 320 Premier Hall\n320 N E St Suite #106 San Bernardino\, CA 92401
URL:https://suckapunchproductions.com/event/adhesivo-with-sonic-boom-6-la-pobreska-and-cerebro-negro-live-in-concert-at-the-320-premier-hall-in-san-bernadino/
LOCATION:The 320 Premier Hall\, 320 N E St Suite #106\, San Bernardino\, CA\, 92401
CATEGORIES:live music
ATTACH;FMTTYPE=image/png:https://suckapunchproductions.com/wp-content/uploads/2024/08/53_Edp.png
END:VEVENT
END:VCALENDAR