BEGIN:VCALENDAR
VERSION:2.0
PRODID:-//Suckapunch Productions  - ECPv6.15.20//NONSGML v1.0//EN
CALSCALE:GREGORIAN
METHOD:PUBLISH
X-WR-CALNAME:Suckapunch Productions 
X-ORIGINAL-URL:https://suckapunchproductions.com
X-WR-CALDESC:Events for Suckapunch Productions 
REFRESH-INTERVAL;VALUE=DURATION:PT1H
X-Robots-Tag:noindex
X-PUBLISHED-TTL:PT1H
BEGIN:VTIMEZONE
TZID:UTC
BEGIN:STANDARD
TZOFFSETFROM:+0000
TZOFFSETTO:+0000
TZNAME:UTC
DTSTART:20250101T000000
END:STANDARD
END:VTIMEZONE
BEGIN:VEVENT
DTSTART;TZID=UTC:20260501T193000
DTEND;TZID=UTC:20260501T233000
DTSTAMP:20260422T083908
CREATED:20260327T195516Z
LAST-MODIFIED:20260327T195540Z
UID:10000286-1777663800-1777678200@suckapunchproductions.com
SUMMARY:Red Store Bums Live At Transplants brewery
DESCRIPTION:Red Store Bums Live At Transplants brewery\n\n\n\n\n\nFri May 1 2026\n7:30 PM (Doors 7:00 PM)\n\n\nTransplants Brewing Company\n40242 La Quinta Ln #101Palmdale\, CA 93551
URL:https://suckapunchproductions.com/event/red-store-bums-live-at-transplants-brewery/
LOCATION:Transplants Brewing Company\, 40242 La Quinta Ln Unit 101\, Palmdale\, CA\, 93551
ATTACH;FMTTYPE=image/jpeg:https://suckapunchproductions.com/wp-content/uploads/2026/03/red-store-.jpg
END:VEVENT
BEGIN:VEVENT
DTSTART;TZID=UTC:20260502T153000
DTEND;TZID=UTC:20260502T233000
DTSTAMP:20260422T083908
CREATED:20260404T213654Z
LAST-MODIFIED:20260404T213817Z
UID:10000288-1777735800-1777764600@suckapunchproductions.com
SUMMARY:Cinco De Ska Fest / Cafa Con Tequila W/ Cerebro Negro W/ Riverratts & More
DESCRIPTION:Cinco De Ska Fest / Cafa Con Tequila W/ Cerebro Negro W/ Riverratts & More\n\nSat\, 2 May\, 3:30 PM\n\nLot 909\n\n165 E O St\, Colton\, CA 92324
URL:https://suckapunchproductions.com/event/cinco-de-ska-fest-cafa-con-tequila-w-cerebro-negro-w-riverratts-more/
LOCATION:Lot 909\, 165 E O St\, CA 92324\, Colton\, CA\, 92324\, United States
ATTACH;FMTTYPE=image/png:https://suckapunchproductions.com/wp-content/uploads/2026/04/cinco-de-ska-.png
END:VEVENT
BEGIN:VEVENT
DTSTART;TZID=UTC:20260509T190000
DTEND;TZID=UTC:20260509T233000
DTSTAMP:20260422T083908
CREATED:20260302T051331Z
LAST-MODIFIED:20260302T051430Z
UID:10000266-1778353200-1778369400@suckapunchproductions.com
SUMMARY:Nb Ridaz Live At Solaris
DESCRIPTION:Nb Ridaz Live At Solaris\n\n\nSat\, 9 May\, 7:30 PM PDT\n\nDoors open\n7:00 PM\n\nSolaris Beer & Blending\n\n41601B Cherry Street\, Murrieta\, CA 92562
URL:https://suckapunchproductions.com/event/nb-ridaz-live-at-solaris/
LOCATION:Solaris Beer & Blending\, 41601B Cherry St\, Murrieta\, CA\, 92562
ATTACH;FMTTYPE=image/jpeg:https://suckapunchproductions.com/wp-content/uploads/2026/03/unnamed-4.jpg
END:VEVENT
BEGIN:VEVENT
DTSTART;TZID=UTC:20260516T170000
DTEND;TZID=UTC:20260516T230000
DTSTAMP:20260422T083908
CREATED:20260404T213018Z
LAST-MODIFIED:20260404T213018Z
UID:10000287-1778950800-1778972400@suckapunchproductions.com
SUMMARY:Anesthesia W/ The Left Over Ska W/ Rudo Skunk & More
DESCRIPTION:Anesthesia W/ The Left Over Ska W/ Rudo Skunk & More\nSat\, 16 May\, 5:00 PM \nSolaris Beer & Blending\n\n41601B Cherry Street\, Murrieta\, CA 92562
URL:https://suckapunchproductions.com/event/anesthesia-w-the-left-over-ska-w-rudo-skunk-more/
LOCATION:Solaris Beer & Blending\, 41601B Cherry St\, Murrieta\, CA\, 92562
ATTACH;FMTTYPE=image/png:https://suckapunchproductions.com/wp-content/uploads/2026/04/rude-boy-ska-.png
END:VEVENT
END:VCALENDAR