BEGIN:VCALENDAR
VERSION:2.0
PRODID:-//Suckapunch Productions  - ECPv6.15.20//NONSGML v1.0//EN
CALSCALE:GREGORIAN
METHOD:PUBLISH
X-WR-CALNAME:Suckapunch Productions 
X-ORIGINAL-URL:https://suckapunchproductions.com
X-WR-CALDESC:Events for Suckapunch Productions 
REFRESH-INTERVAL;VALUE=DURATION:PT1H
X-Robots-Tag:noindex
X-PUBLISHED-TTL:PT1H
BEGIN:VTIMEZONE
TZID:UTC
BEGIN:STANDARD
TZOFFSETFROM:+0000
TZOFFSETTO:+0000
TZNAME:UTC
DTSTART:20240101T000000
END:STANDARD
END:VTIMEZONE
BEGIN:VEVENT
DTSTART;TZID=UTC:20250214T190000
DTEND;TZID=UTC:20250214T233000
DTSTAMP:20260422T082521
CREATED:20241210T201912Z
LAST-MODIFIED:20241210T202049Z
UID:10000094-1739559600-1739575800@suckapunchproductions.com
SUMMARY:SLY SLICK AND WICKED WITH COTA THE BARBER LIVE IN CONCERT VALENTINES DAY
DESCRIPTION:SLY SLICK AND WICKED WITH COTA THE BARBER LIVE IN CONCERT VALENTINES DAYFri Feb 14 20257:30 PMTransplants Brewing Company40242 La Quinta Ln Unit 101Palmdale\, CA 93551
URL:https://suckapunchproductions.com/event/sly-slick-and-wicked-with-cota-the-barber-live-in-concert-valentines-day/
LOCATION:Transplants Brewing Company\, 40242 La Quinta Ln Unit 101\, Palmdale\, CA\, 93551
ATTACH;FMTTYPE=image/jpeg:https://suckapunchproductions.com/wp-content/uploads/2024/12/sly-slick-and-wicked-suckapunch-productions-.jpg
END:VEVENT
BEGIN:VEVENT
DTSTART;TZID=UTC:20250215T190000
DTEND;TZID=UTC:20250215T233000
DTSTAMP:20260422T082521
CREATED:20241001T205933Z
LAST-MODIFIED:20241001T210001Z
UID:10000072-1739646000-1739662200@suckapunchproductions.com
SUMMARY:LIVE IN CONCERT VENOM INC AT LIBERTINE IN SAN LUIS OBISPO
DESCRIPTION:LIVE IN CONCERT VENOM INC AT LIBERTINE IN SAN LUIS OBISPO Sat Feb 15 20258:00 PM (Doors 7:00 PM)Libertine Brewing Company1234 Broad StreetSan Luis Obispo\, CA 93401
URL:https://suckapunchproductions.com/event/live-in-concert-venom-inc-at-libertine-in-san-luis-obispo/
LOCATION:Libertine Brewing Company 1234 Broad Street San Luis Obispo\, CA 93401\, 1234 Broad Street CA 93401\, San Luis Obispo\,\, CA\, 93401\, United States
CATEGORIES:live music
ATTACH;FMTTYPE=image/jpeg:https://suckapunchproductions.com/wp-content/uploads/2024/10/venom-ink-suckapunch-productions-.jpg
END:VEVENT
BEGIN:VEVENT
DTSTART;TZID=UTC:20250216T170000
DTEND;TZID=UTC:20250216T220000
DTSTAMP:20260422T082521
CREATED:20250113T035942Z
LAST-MODIFIED:20250113T035943Z
UID:10000102-1739725200-1739743200@suckapunchproductions.com
SUMMARY:PENTAGRAM LIVE IN CONCERT AT SOLARIS IN MURRIETA
DESCRIPTION:PENTAGRAM LIVE IN CONCERT AT SOLARIS IN MURRIETA \n\n\n\nPENTAGRAM LIVE IN CONCERT AT SOLARIS IN MURRIETA\n\n\n\n\n\nInfo\n\n\n\nSun Feb 16 2025\n6:00 PM\n\n\nSolaris Beer & Blending\n41601B Cherry StreetMurrieta\, CA 92562
URL:https://suckapunchproductions.com/event/pentagram-live-in-concert-at-solaris-in-murrieta/
LOCATION:Solaris Beer & Blending\, 41601B Cherry St\, Murrieta\, CA\, 92562
CATEGORIES:live art
ATTACH;FMTTYPE=image/jpeg:https://suckapunchproductions.com/wp-content/uploads/2025/01/pentagrame-suckapunchproductions-.jpeg
END:VEVENT
BEGIN:VEVENT
DTSTART;TZID=UTC:20250220T190000
DTEND;TZID=UTC:20250220T233000
DTSTAMP:20260422T082521
CREATED:20250103T113831Z
LAST-MODIFIED:20250103T113909Z
UID:10000099-1740078000-1740094200@suckapunchproductions.com
SUMMARY:GUTTERMOUTH LIVE IN CONCERT AT THE WHISKEY BARREL IN HESPERIA
DESCRIPTION:GUTTERMOUTH LIVE IN CONCERT AT THE WHISKEY BARREL IN HESPERIA Thu Feb 20 20257:00 PMThe Whiskey Barrel12055 Mariposa RdHesperia\, CA 92345
URL:https://suckapunchproductions.com/event/guttermouth-live-in-concert-at-the-whiskey-barrel-in-hesperia/
LOCATION:th whisky barrel\, 12055 Mariposa Rd\,\, Hesperia\,\, 92345\, United States
CATEGORIES:live music
ATTACH;FMTTYPE=image/png:https://suckapunchproductions.com/wp-content/uploads/2025/01/GUTTERMOUTH-LIVE-IN-CONCERT-AT-THE-WHISKEY-BARREL-IN-HESPERIA.png
END:VEVENT
BEGIN:VEVENT
DTSTART;TZID=UTC:20250228T190000
DTEND;TZID=UTC:20250228T223000
DTSTAMP:20260422T082521
CREATED:20240812T070414Z
LAST-MODIFIED:20240819T143657Z
UID:10000046-1740769200-1740781800@suckapunchproductions.com
SUMMARY:THE EXPLOITED LIVE IN CONCERT IN MURRIETA AT SOLARIS
DESCRIPTION:THE EXPLOITED LIVE IN CONCERT IN MURRIETA AT SOLARIS \n\nFebruary 28 2025\n7:00 PM\n\n\nSolaris Beer & Blending\n41601B Cherry Street Murrieta\, CA 92562
URL:https://suckapunchproductions.com/event/the-exploited-live-in-concert-in-murrieta-at-solaris/
LOCATION:Solaris Beer & Blending\, 41601B Cherry St\, Murrieta\, CA\, 92562
CATEGORIES:live music
ATTACH;FMTTYPE=image/jpeg:https://suckapunchproductions.com/wp-content/uploads/2024/08/exploited-2025-tour-.jpeg
END:VEVENT
BEGIN:VEVENT
DTSTART;TZID=UTC:20250228T190000
DTEND;TZID=UTC:20250228T233000
DTSTAMP:20260422T082521
CREATED:20241007T055757Z
LAST-MODIFIED:20241219T015136Z
UID:10000074-1740769200-1740785400@suckapunchproductions.com
SUMMARY:NB RIDAZ LIVE IN CONCERT IN THE FLYWAY
DESCRIPTION:NB RIDAZ LIVE IN CONCERT IN THE FLYWAY \n\nFri Feb 28 2025\n7:00 PM (Doors 6:30 PM)\n\n\nFlyway\n345 S Garey AvePomona\, CA 91766
URL:https://suckapunchproductions.com/event/nb-rydaz-live-in-concert-in-the-flyway/
LOCATION:Flyway Bar\, 345 S Garey Ave\, Pomona\, CA\, 91766
CATEGORIES:live music
ATTACH;FMTTYPE=image/jpeg:https://suckapunchproductions.com/wp-content/uploads/2024/10/Attachment.jpeg
END:VEVENT
BEGIN:VEVENT
DTSTART;TZID=UTC:20250228T190000
DTEND;TZID=UTC:20250228T233000
DTSTAMP:20260422T082521
CREATED:20250207T191704Z
LAST-MODIFIED:20250207T191704Z
UID:10000104-1740769200-1740785400@suckapunchproductions.com
SUMMARY:TOTAL CHAOS WITH GUTTER POETS RALLY CRY LAZY BEAM AND NSA
DESCRIPTION:TOTAL CHAOS WITH GUTTER POETS RALLY CRY LAZY BEAM AND NSA TOTAL CHAOS WITH GUTTER POETS RALLY CRY LAZY BEAM AND NSA  TEHACHIPI Fri Feb 28 20257:00 PMWestlane Brewery207 East H StTehachapi\, CA 93561
URL:https://suckapunchproductions.com/event/total-chaos-with-gutter-poets-rally-cry-lazy-beam-and-nsa/
LOCATION:westlane\, 207 east H street\, Tehachapi\,\, CA\, 93561\, United States
CATEGORIES:live music
ATTACH;FMTTYPE=image/jpeg:https://suckapunchproductions.com/wp-content/uploads/2025/02/Attachment-1-1.jpeg
END:VEVENT
END:VCALENDAR