BEGIN:VCALENDAR
VERSION:2.0
PRODID:-//Suckapunch Productions  - ECPv6.15.20//NONSGML v1.0//EN
CALSCALE:GREGORIAN
METHOD:PUBLISH
X-ORIGINAL-URL:https://suckapunchproductions.com
X-WR-CALDESC:Events for Suckapunch Productions 
REFRESH-INTERVAL;VALUE=DURATION:PT1H
X-Robots-Tag:noindex
X-PUBLISHED-TTL:PT1H
BEGIN:VTIMEZONE
TZID:UTC
BEGIN:STANDARD
TZOFFSETFROM:+0000
TZOFFSETTO:+0000
TZNAME:UTC
DTSTART:20230101T000000
END:STANDARD
END:VTIMEZONE
BEGIN:VEVENT
DTSTART;TZID=UTC:20240703T190000
DTEND;TZID=UTC:20240703T220000
DTSTAMP:20260423T010543
CREATED:20240529T205154Z
LAST-MODIFIED:20240611T184407Z
UID:10000020-1720033200-1720044000@suckapunchproductions.com
SUMMARY:THE HAVOC\, WITH THE AFRAID LIVE
DESCRIPTION:The Havoc is a Los Angeles-based street punk band that formed in 2001. Their goal was to make a name for themselves in the American street punk scene. They recorded and self-released their first EP\, Who’s Gonna Die?\, in 2002\, and began playing local shows. Their performances caught the attention of Mike Virus\, who invited them to play at a show he was booking in San Diego
URL:https://suckapunchproductions.com/event/the-havoc-with-the-afraid-live/
LOCATION:Solaris Beer & Blending\, 41601B Cherry St\, Murrieta\, CA\, 92562
CATEGORIES:live music,networking
ATTACH;FMTTYPE=image/jpeg:https://suckapunchproductions.com/wp-content/uploads/2024/05/the-havoc-suckapunch-.jpg
END:VEVENT
BEGIN:VEVENT
DTSTART;TZID=UTC:20240711T190000
DTEND;TZID=UTC:20240711T230000
DTSTAMP:20260423T010543
CREATED:20240529T210002Z
LAST-MODIFIED:20240531T064726Z
UID:10000021-1720724400-1720738800@suckapunchproductions.com
SUMMARY:GUTTERMOUTH WITH THE VENOMOUS PINKS VIOLATES COMMUNITY STANDARDS & VFMS
DESCRIPTION:Guttermouth is an American punk rock band that formed in Huntington Beach\, California in 1988 or 1989. They are known for their offensive\, explicit\, and sometimes humorous lyrics and behavior\, which have led to some controversies. For example\, Guttermouth was banned from performing in Canada for 18 months and left the 2004 Vans Warped Tour after mocking other bands.
URL:https://suckapunchproductions.com/event/guttermouth-with-the-venomous-pinks-violates-community-standards-vfms/
LOCATION:Solaris Beer & Blending\, 41601B Cherry St\, Murrieta\, CA\, 92562
CATEGORIES:live art
ATTACH;FMTTYPE=image/jpeg:https://suckapunchproductions.com/wp-content/uploads/2024/05/54_Edp-1.jpg
END:VEVENT
BEGIN:VEVENT
DTSTART;TZID=UTC:20240712T190000
DTEND;TZID=UTC:20240712T190000
DTSTAMP:20260423T010543
CREATED:20240529T211329Z
LAST-MODIFIED:20240531T082959Z
UID:10000022-1720810800-1720810800@suckapunchproductions.com
SUMMARY:GUTTERMOUTH WITH THE VENOMOUS PINKS ZERO GIVEN BARSTOOL SAINTS
DESCRIPTION:Guttermouth is an American punk rock band that formed in Huntington Beach\, California in 1988 or 1989. They are known for their offensive\, explicit\, and sometimes humorous lyrics and behavior\, which have led to some controversies. For example\, Guttermouth was banned from performing in Canada for 18 months and left the 2004 Vans Warped Tour after mocking other bands.
URL:https://suckapunchproductions.com/event/guttermouth-with-the-venomous-pinks-zero-given-barstool-saints/
LOCATION:The Patriot Bar And Grill\, 117 E Ridgecrest Blvd\, Ridgecrest\, CA\, 93555
CATEGORIES:live art,live music,networking
ATTACH;FMTTYPE=image/png:https://suckapunchproductions.com/wp-content/uploads/2024/05/GUTTERMOUTH-WITH-THE-VENOMOUS-PINKS-ZERO-GIVEN-BARSTOOL-SAINTS-suckapunch.png
END:VEVENT
BEGIN:VEVENT
DTSTART;TZID=UTC:20240720T190000
DTEND;TZID=UTC:20240720T233000
DTSTAMP:20260423T010543
CREATED:20240603T220221Z
LAST-MODIFIED:20240603T221122Z
UID:10000023-1721502000-1721518200@suckapunchproductions.com
SUMMARY:LIGHTER SHADE OF BROWN WITH HYPNOTIC AND MORE TBA BE ANNOUNCED LIVE IN CONCERT AT BASTARDS IN TEMECULALIGHTER SHADE OF BROWN WITH HYPNOTIC AND MORE TBA
DESCRIPTION:LIGHTER SHADE OF BROWN WITH HYPNOTIC AND MORE TBA BE ANNOUNCED LIVE IN CONCERT AT BASTARDS IN TEMECULA
URL:https://suckapunchproductions.com/event/lighter-shade-of-brown-with-hypnotic-live-in-concert-at-bastards-in/
LOCATION:Bastards Canteen\, 27717 Jefferson Ave\, Temecula\, CA\, 92590
ATTACH;FMTTYPE=image/jpeg:https://suckapunchproductions.com/wp-content/uploads/2024/05/6bfeb90b-c8bf-4f7b-a4b2-b6f198c5667b.jpeg
END:VEVENT
BEGIN:VEVENT
DTSTART;TZID=UTC:20240720T190000
DTEND;TZID=UTC:20240720T233000
DTSTAMP:20260423T010543
CREATED:20240702T143427Z
LAST-MODIFIED:20240702T143427Z
UID:10000037-1721502000-1721518200@suckapunchproductions.com
SUMMARY:HILL BILLY MOON EXPLOSION WITH 3LH & THE WENZDAYZ LIVE IN CONCERT
DESCRIPTION:HILL BILLY MOON EXPLOSION WITH 3LH & THE WENZDAYZ LIVE IN CONCERT
URL:https://suckapunchproductions.com/event/hill-billy-moon-explosion-with-3lh-the-wenzdayz-live-in-concert-2/
LOCATION:The Bancroft Bar\, 9143 Campo Rd\, Spring Valley\, CA\, 91977
CATEGORIES:live art,live music
ATTACH;FMTTYPE=image/png:https://suckapunchproductions.com/wp-content/uploads/2024/06/hill-billy-moon-explosion-suckapunchproductions-.png
END:VEVENT
BEGIN:VEVENT
DTSTART;TZID=UTC:20240721T190000
DTEND;TZID=UTC:20240721T233000
DTSTAMP:20260423T010543
CREATED:20240617T144815Z
LAST-MODIFIED:20240712T225830Z
UID:10000032-1721588400-1721604600@suckapunchproductions.com
SUMMARY:HILL BILLY MOON EXPLOSION WITH 3LH & THE WENZDAYZ LIVE IN CONCERT
DESCRIPTION:
URL:https://suckapunchproductions.com/event/hill-billy-moon-explosion-with-3lh-the-wenzdayz-live-in-concert/
LOCATION:The Bancroft Bar\, 9143 Campo Rd\, Spring Valley\, CA\, 91977
CATEGORIES:live music,networking
ATTACH;FMTTYPE=image/png:https://suckapunchproductions.com/wp-content/uploads/2024/06/hill-billy-moon-explosion-suckapunchproductions-.png
END:VEVENT
BEGIN:VEVENT
DTSTART;TZID=UTC:20240727T190000
DTEND;TZID=UTC:20240727T230000
DTSTAMP:20260423T010543
CREATED:20240603T222257Z
LAST-MODIFIED:20240603T222345Z
UID:10000024-1722106800-1722121200@suckapunchproductions.com
SUMMARY:NB RIDAZ LIVE IN CONCERT AT TRANSPLANTS IN PALMDALE
DESCRIPTION:NB RIDAZ LIVE IN CONCERT AT TRANSPLANTS IN PALMDALE 
URL:https://suckapunchproductions.com/event/nb-ridaz-live-in-concert-at-transplants-in-palmdale/
LOCATION:Transplants Brewing Company\, 40242 La Quinta Ln Unit 101\, Palmdale\, CA\, 93551
ATTACH;FMTTYPE=image/jpeg:https://suckapunchproductions.com/wp-content/uploads/2024/03/434273435_1138520683841376_1645128188218999074_n.jpg
END:VEVENT
BEGIN:VEVENT
DTSTART;TZID=UTC:20240728T190000
DTEND;TZID=UTC:20240728T233000
DTSTAMP:20260423T010543
CREATED:20240624T163014Z
LAST-MODIFIED:20240627T201036Z
UID:10000036-1722193200-1722209400@suckapunchproductions.com
SUMMARY:B LEGIT CELLY CELL & MAC MALL LIVE IN CONCERT
DESCRIPTION:B LEGIT CELLY CELL & MAC MALL LIVE IN CONCERT AT THE BRENTWOOD EMPORIUM
URL:https://suckapunchproductions.com/event/b-legit-celly-cell-mac-mall-live-in-concert/
LOCATION:The Brentwood Emporium\, 561 1st St\, Brentwood\, CA\, 94513
CATEGORIES:live music,networking
ATTACH;FMTTYPE=image/png:https://suckapunchproductions.com/wp-content/uploads/2024/06/B-LEGIT-CELLY-CELL-MAC-MALL-LIVE-IN-CONCERT-AT-THE-BRENTWOOD-EMPORIUM.png
END:VEVENT
END:VCALENDAR