BEGIN:VCALENDAR
VERSION:2.0
PRODID:-//Suckapunch Productions  - ECPv6.15.20//NONSGML v1.0//EN
CALSCALE:GREGORIAN
METHOD:PUBLISH
X-WR-CALNAME:Suckapunch Productions 
X-ORIGINAL-URL:https://suckapunchproductions.com
X-WR-CALDESC:Events for Suckapunch Productions 
REFRESH-INTERVAL;VALUE=DURATION:PT1H
X-Robots-Tag:noindex
X-PUBLISHED-TTL:PT1H
BEGIN:VTIMEZONE
TZID:UTC
BEGIN:STANDARD
TZOFFSETFROM:+0000
TZOFFSETTO:+0000
TZNAME:UTC
DTSTART:20240101T000000
END:STANDARD
END:VTIMEZONE
BEGIN:VEVENT
DTSTART;TZID=UTC:20250411T190000
DTEND;TZID=UTC:20250411T233000
DTSTAMP:20260420T185344
CREATED:20250207T193109Z
LAST-MODIFIED:20250321T192856Z
UID:10000105-1744398000-1744414200@suckapunchproductions.com
SUMMARY:RBL POSSE LIVE IN CONCERT AT 99 BOTTLES IN ANEHIEM
DESCRIPTION:RBL POSSE LIVE IN CONCERT AT 99 BOTTLES IN ANEHIEMFri Mar 28 20257:00 PM99 Bottles8901 Katella AveAnaheim\, CA 92804
URL:https://suckapunchproductions.com/event/rbl-posse-live-in-concert-at-99-bottles-in-anehiem/
LOCATION:California
CATEGORIES:live art
END:VEVENT
BEGIN:VEVENT
DTSTART;TZID=UTC:20250411T190000
DTEND;TZID=UTC:20250411T233000
DTSTAMP:20260420T185344
CREATED:20250104T063145Z
LAST-MODIFIED:20250104T063145Z
UID:10000101-1744398000-1744414200@suckapunchproductions.com
SUMMARY:FEAR LIVE IN CONCERT WITH SINCE WE WERE KIDS PUBLIC NUISANCE AND SLOPPY TITTY FREAKS
DESCRIPTION:FEAR LIVE IN CONCERT WITH SINCE WE WERE KIDS PUBLIC NUISANCE AND SLOPPY TITTY  Transplants Brewing Company40242 La Quinta Ln Unit 101Palmdale\, CA 93551 \n 
URL:https://suckapunchproductions.com/event/fear-live-in-concert-with-since-we-were-kids-public-nuisance-and-sloppy-titty-freaks/
LOCATION:Transplants Brewing Company\, 40242 La Quinta Ln Unit 101\, Palmdale\, CA\, 93551
CATEGORIES:live music
ATTACH;FMTTYPE=image/jpeg:https://suckapunchproductions.com/wp-content/uploads/2025/01/fear-Friday-11th-doors-at-7-pm.jpeg
END:VEVENT
BEGIN:VEVENT
DTSTART;TZID=UTC:20250412T150000
DTEND;TZID=UTC:20250412T233000
DTSTAMP:20260420T185344
CREATED:20250311T015809Z
LAST-MODIFIED:20250412T163757Z
UID:10000121-1744470000-1744500600@suckapunchproductions.com
SUMMARY:I.E SKA FEST VOL 1
DESCRIPTION:I.E SKA FEST VOL 1 Sat Apr 12 20253:30 AMSolaris Beer & Blending41601B Cherry StreetMurrieta\, CA 92562 \n  \n 
URL:https://suckapunchproductions.com/event/i-e-ska-fest-vol-1/
LOCATION:Solaris Beer & Blending\, 41601B Cherry St\, Murrieta\, CA\, 92562
ATTACH;FMTTYPE=image/jpeg:https://suckapunchproductions.com/wp-content/uploads/2025/03/dc1b3813-57cc-4b51-b800-19f57ae6ede4.jpeg
END:VEVENT
BEGIN:VEVENT
DTSTART;TZID=UTC:20250413T190000
DTEND;TZID=UTC:20250413T233000
DTSTAMP:20260420T185344
CREATED:20250331T100133Z
LAST-MODIFIED:20250331T100133Z
UID:10000132-1744570800-1744587000@suckapunchproductions.com
SUMMARY:HAGGUS LIVE AT THE FLYWAY IN POMONA
DESCRIPTION:HAGGUS LIVE AT THE FLYWAY IN POMONA Sun Apr 13 20257:00 PMFlyway345 S Garey AvePomona\, CA 91766
URL:https://suckapunchproductions.com/event/haggus-live-at-the-flyway-in-pomona/
LOCATION:Flyway Bar\, 345 S Garey Ave\, Pomona\, CA\, 91766
END:VEVENT
BEGIN:VEVENT
DTSTART;TZID=UTC:20250425T220000
DTEND;TZID=UTC:20250425T233000
DTSTAMP:20260420T185344
CREATED:20250409T113031Z
LAST-MODIFIED:20250502T211813Z
UID:10000133-1745618400-1745623800@suckapunchproductions.com
SUMMARY:03 GREEDO at HACIENDAS IN SALINAS APRIL 25TH
DESCRIPTION:03 GREEDO at HACIENDAS IN SALINAS APRIL 25TH
URL:https://suckapunchproductions.com/event/03-greedo-at-haciendas-in-salinas-april-25th/
LOCATION:Haciendas\, 1449 N David Rd\, Salinas\, 93907\, United States
ATTACH;FMTTYPE=image/webp:https://suckapunchproductions.com/wp-content/uploads/2025/03/03-greedo-transplants-.suckapunchproductions.webp
END:VEVENT
BEGIN:VEVENT
DTSTART;TZID=UTC:20250426T220000
DTEND;TZID=UTC:20250426T233000
DTSTAMP:20260420T185344
CREATED:20250413T051815Z
LAST-MODIFIED:20250413T051815Z
UID:10000135-1745704800-1745710200@suckapunchproductions.com
SUMMARY:03 GREEDO AT SWITCH IN FRESNO
DESCRIPTION:03 GREEDO AT SWITCH IN FRESNO Sat Apr 26 202510:00 PMSwitch Lounge and Nightclub5665 North Blackstone Ave #110Fresno\, CA 93710
URL:https://suckapunchproductions.com/event/03-greedo-at-switch-in-fresno/
LOCATION:THE SWITCH\, Switch Lounge and Nightclub 5665 North Blackstone Ave #110 Fresno\, CA 93710\, Fresno\, CA\, 93721\, United States
ATTACH;FMTTYPE=image/webp:https://suckapunchproductions.com/wp-content/uploads/2025/03/03-greedo-transplants-.suckapunchproductions.webp
END:VEVENT
BEGIN:VEVENT
DTSTART;TZID=UTC:20250501T190000
DTEND;TZID=UTC:20250501T233000
DTSTAMP:20260420T185344
CREATED:20250207T193900Z
LAST-MODIFIED:20250207T193900Z
UID:10000106-1746126000-1746142200@suckapunchproductions.com
SUMMARY:Manic Hispanic with Left Alone T Transplants in Palmdale
DESCRIPTION:Manic Hispanic with Left Alone T Transplants in Palmdale Thu May 1 20257:00 PMTransplants Brewing Company40242 La Quinta Ln Unit 101Palmdale\, CA 93551
URL:https://suckapunchproductions.com/event/manic-hispanic-with-left-alone-t-transplants-in-palmdale/
LOCATION:Transplants Brewing Company\, 40242 La Quinta Ln Unit 101\, Palmdale\, CA\, 93551
ATTACH;FMTTYPE=image/png:https://suckapunchproductions.com/wp-content/uploads/2025/02/94_Edp.png
END:VEVENT
BEGIN:VEVENT
DTSTART;TZID=UTC:20250503T180000
DTEND;TZID=UTC:20250503T233000
DTSTAMP:20260420T185344
CREATED:20250321T180358Z
LAST-MODIFIED:20250502T212101Z
UID:10000125-1746295200-1746315000@suckapunchproductions.com
SUMMARY:Ocho Kalacas With River Ratts Live in Concert at the Corazon del Barrio in San Diego
DESCRIPTION:Ocho Kalacas With River Ratts Live in Concert at the Corazon del Barrio in San Diego Sat May 3 20256:00 PMCorazon del Barrio2196 Logan AveSan Diego\, CA 92113
URL:https://suckapunchproductions.com/event/ocho-kalacas-with-river-ratts-live-in-concert-at-the-corazon-del-barrio-in-san-diego/
LOCATION:Corazon del Barrio\, 2196 Logan Ave San Diego\, CA 92113\, San Diego\, CA 92113\, ca\, 92113
ATTACH;FMTTYPE=image/png:https://suckapunchproductions.com/wp-content/uploads/2025/03/ochco-.png
END:VEVENT
BEGIN:VEVENT
DTSTART;TZID=UTC:20250509T180000
DTEND;TZID=UTC:20250509T230000
DTSTAMP:20260420T185344
CREATED:20250413T052650Z
LAST-MODIFIED:20250413T053616Z
UID:10000136-1746813600-1746831600@suckapunchproductions.com
SUMMARY:GUTTERMOUTH LIVE IN CONCERT AT SOLARIS IN MURRIETA
DESCRIPTION:GUTTERMOUTH LIVE IN CONCERT AT SOLARIS IN MURRIETA Fri May 9 20256:00 PMSolaris Beer & Blending41601B Cherry StreetMurrieta\, CA 92562
URL:https://suckapunchproductions.com/event/guttermouth-live-in-concert-at-solaris-in-murrieta/
LOCATION:Solaris Beer & Blending\, 41601B Cherry St\, Murrieta\, CA\, 92562
END:VEVENT
BEGIN:VEVENT
DTSTART;TZID=UTC:20250509T190000
DTEND;TZID=UTC:20250509T233000
DTSTAMP:20260420T185344
CREATED:20250321T181225Z
LAST-MODIFIED:20250321T181335Z
UID:10000126-1746817200-1746833400@suckapunchproductions.com
SUMMARY:Ocho Kalacas With River Ratts Live in Concert at The Flyway in Pomona
DESCRIPTION:Ocho Kalacas With River Ratts Live in Concert at The Flyway in PomonaFri May 9 20257:00 PMFlyway345 S Garey AvePomona\, CA 91766
URL:https://suckapunchproductions.com/event/ocho-kalacas-with-river-ratts-live-in-concert-at-the-flyway-in-pomona/
LOCATION:Flyway Bar\, 345 S Garey Ave\, Pomona\, CA\, 91766
ATTACH;FMTTYPE=image/png:https://suckapunchproductions.com/wp-content/uploads/2025/03/ochco-.png
END:VEVENT
BEGIN:VEVENT
DTSTART;TZID=UTC:20250510T153000
DTEND;TZID=UTC:20250510T233000
DTSTAMP:20260420T185344
CREATED:20250321T181901Z
LAST-MODIFIED:20250401T015511Z
UID:10000127-1746891000-1746919800@suckapunchproductions.com
SUMMARY:Ocho Kalacas With River Ratts Live in Concert at Transplants in Palmdale
DESCRIPTION:Ocho Kalacas With River Ratts Live in Concert at Transplants in Palmdale Sat May 10 20253:30Transplants Brewing Company40242 La Quinta Ln Unit 101Palmdale\, CA 93551
URL:https://suckapunchproductions.com/event/ocho-kalacas-with-river-ratts-live-in-concert-at-transplants-in-palmdale/
LOCATION:Transplants Brewing Company\, 40242 La Quinta Ln Unit 101\, Palmdale\, CA\, 93551
ATTACH;FMTTYPE=image/png:https://suckapunchproductions.com/wp-content/uploads/2025/03/ochco-.png
END:VEVENT
END:VCALENDAR