BEGIN:VCALENDAR
VERSION:2.0
PRODID:-//Suckapunch Productions  - ECPv6.15.20//NONSGML v1.0//EN
CALSCALE:GREGORIAN
METHOD:PUBLISH
X-ORIGINAL-URL:https://suckapunchproductions.com
X-WR-CALDESC:Events for Suckapunch Productions 
REFRESH-INTERVAL;VALUE=DURATION:PT1H
X-Robots-Tag:noindex
X-PUBLISHED-TTL:PT1H
BEGIN:VTIMEZONE
TZID:UTC
BEGIN:STANDARD
TZOFFSETFROM:+0000
TZOFFSETTO:+0000
TZNAME:UTC
DTSTART:20240101T000000
END:STANDARD
END:VTIMEZONE
BEGIN:VEVENT
DTSTART;TZID=UTC:20250302T190000
DTEND;TZID=UTC:20250302T233000
DTSTAMP:20260420T063322
CREATED:20240812T154607Z
LAST-MODIFIED:20240821T014932Z
UID:10000048-1740942000-1740958200@suckapunchproductions.com
SUMMARY:THE EXPLOITED LIVE IN CONCERT THE BRENTWOOD EMPORIUM
DESCRIPTION:THE EXPLOITED LIVE IN CONCERT THE BRENTWOOD EMPORIUM \n\nMarch 2\, 2025\n7:00 PM (Doors 7:00 PM)\n\n\nBrentwood Emporium\n561 1st St Brentwood\, CA 94513
URL:https://suckapunchproductions.com/event/the-exploited-live-in-concert-the-brentwood-emporium/
LOCATION:The Brentwood Emporium\, 561 1st St\, Brentwood\, CA\, 94513
CATEGORIES:live music,networking
ATTACH;FMTTYPE=image/jpeg:https://suckapunchproductions.com/wp-content/uploads/2024/08/exploited-2025-tour-.jpeg
END:VEVENT
END:VCALENDAR