BEGIN:VCALENDAR
VERSION:2.0
PRODID:-//Suckapunch Productions  - ECPv6.15.20//NONSGML v1.0//EN
CALSCALE:GREGORIAN
METHOD:PUBLISH
X-WR-CALNAME:Suckapunch Productions 
X-ORIGINAL-URL:https://suckapunchproductions.com
X-WR-CALDESC:Events for Suckapunch Productions 
REFRESH-INTERVAL;VALUE=DURATION:PT1H
X-Robots-Tag:noindex
X-PUBLISHED-TTL:PT1H
BEGIN:VTIMEZONE
TZID:UTC
BEGIN:STANDARD
TZOFFSETFROM:+0000
TZOFFSETTO:+0000
TZNAME:UTC
DTSTART:20230101T000000
END:STANDARD
END:VTIMEZONE
BEGIN:VEVENT
DTSTART;TZID=UTC:20240605T180000
DTEND;TZID=UTC:20240605T230000
DTSTAMP:20260423T144202
CREATED:20240528T165829Z
LAST-MODIFIED:20240531T080837Z
UID:10000008-1717610400-1717628400@suckapunchproductions.com
SUMMARY:SHAM69 AND NO CONSENT LIVE IN CONCERT
DESCRIPTION:
URL:https://suckapunchproductions.com/event/sham69-and-no-consent-live-in-concert/
LOCATION:Transplants Brewing Company\, 40242 La Quinta Ln Unit 101\, Palmdale\, CA\, 93551
CATEGORIES:live art,live music,networking
ATTACH;FMTTYPE=image/jpeg:https://suckapunchproductions.com/wp-content/uploads/2024/05/shame69-no-consent-.jpg
END:VEVENT
BEGIN:VEVENT
DTSTART;TZID=UTC:20240606T190000
DTEND;TZID=UTC:20240606T230000
DTSTAMP:20260423T144202
CREATED:20240528T170821Z
LAST-MODIFIED:20240528T170821Z
UID:10000009-1717700400-1717714800@suckapunchproductions.com
SUMMARY:SHAM69 WITH NO CONSENT LIVE
DESCRIPTION:
URL:https://suckapunchproductions.com/event/sham69-with-no-consent-live/
LOCATION:The Bancroft Bar\, 9143 Campo Rd\, Spring Valley\, CA\, 91977
CATEGORIES:live art,live music,networking
ATTACH;FMTTYPE=image/jpeg:https://suckapunchproductions.com/wp-content/uploads/2024/05/shame69-no-consent-1-1.jpg
END:VEVENT
BEGIN:VEVENT
DTSTART;TZID=UTC:20240607T190000
DTEND;TZID=UTC:20240607T223000
DTSTAMP:20260423T144202
CREATED:20240529T170936Z
LAST-MODIFIED:20240529T171005Z
UID:10000011-1717786800-1717799400@suckapunchproductions.com
SUMMARY:SHAM69 WITH NO CONSENT LIVE
DESCRIPTION:SHAM69 WITH NO CONSENT LIVE AT SOLARIS Fri Jun 7\,2024 7:00 PM. so come enjoy a wild night with us  Sham 69 is an English punk rock band that was formed in 1975 in Hersham\, Surrey by singer and lyricist Jimmy Pursey. T
URL:https://suckapunchproductions.com/event/sham69-with-no-consent-live-suckapunchproductions/
LOCATION:Solaris Beer & Blending\, 41601B Cherry St\, Murrieta\, CA\, 92562
CATEGORIES:live art,live music,networking
ATTACH;FMTTYPE=image/jpeg:https://suckapunchproductions.com/wp-content/uploads/2024/05/shame69-no-consent-1-1.jpg
END:VEVENT
BEGIN:VEVENT
DTSTART;TZID=UTC:20240609T190000
DTEND;TZID=UTC:20240609T233000
DTSTAMP:20260423T144202
CREATED:20240529T172230Z
LAST-MODIFIED:20240529T172352Z
UID:10000012-1717959600-1717975800@suckapunchproductions.com
SUMMARY:SHAM69 WITH NO CONSENT LIVE
DESCRIPTION:Sham 69 was formed in 1975 with the members Jimmy Pursey\, Neil Harris\, Albie Slider\, Billy Bostik and Johnny Goodfornothing. The band played at many of the famous punk hotspots during this time\, performing fan favourites such as ‘Borstal Breakout’ and ‘Hey Little Rich Boy’
URL:https://suckapunchproductions.com/event/sham69-with-no-consent-live-2/
LOCATION:Jerrys Pizza & Pub\, 1817 Chester Ave\, Bakersfield\, CA\, 93301
CATEGORIES:live art,live music,networking
ATTACH;FMTTYPE=image/jpeg:https://suckapunchproductions.com/wp-content/uploads/2024/05/shame69-no-consent-1-2.jpg
END:VEVENT
END:VCALENDAR