BEGIN:VCALENDAR
VERSION:2.0
PRODID:-//Suckapunch Productions  - ECPv6.15.20//NONSGML v1.0//EN
CALSCALE:GREGORIAN
METHOD:PUBLISH
X-ORIGINAL-URL:https://suckapunchproductions.com
X-WR-CALDESC:Events for Suckapunch Productions 
REFRESH-INTERVAL;VALUE=DURATION:PT1H
X-Robots-Tag:noindex
X-PUBLISHED-TTL:PT1H
BEGIN:VTIMEZONE
TZID:UTC
BEGIN:STANDARD
TZOFFSETFROM:+0000
TZOFFSETTO:+0000
TZNAME:UTC
DTSTART:20230101T000000
END:STANDARD
END:VTIMEZONE
BEGIN:VEVENT
DTSTART;TZID=UTC:20241220T193000
DTEND;TZID=UTC:20241220T233000
DTSTAMP:20260422T222129
CREATED:20241112T230630Z
LAST-MODIFIED:20241112T230728Z
UID:10000089-1734723000-1734737400@suckapunchproductions.com
SUMMARY:THE EMO NIGHTMARE A TRIBUTE TO TIM BURTON
DESCRIPTION:THE EMO NIGHTMARE A TRIBUTE TO TIM BURTON \n\nFri Dec 20 2024\n7:30 PM\n\n\nTransplants Brewing Company\n40242 La Quinta Ln Unit 101Palmdale\, CA 93551
URL:https://suckapunchproductions.com/event/the-emo-nightmare-a-tribute-to-tim-burton/
LOCATION:Transplants Brewing Company\, 40242 La Quinta Ln Unit 101\, Palmdale\, CA\, 93551
CATEGORIES:live art,live music,networking
ATTACH;FMTTYPE=image/png:https://suckapunchproductions.com/wp-content/uploads/2024/11/Tim-Burton-emo-night-mare-.png
END:VEVENT
BEGIN:VEVENT
DTSTART;TZID=UTC:20241221T180000
DTEND;TZID=UTC:20241221T180000
DTSTAMP:20260422T222129
CREATED:20241118T184508Z
LAST-MODIFIED:20241119T034926Z
UID:10000091-1734804000-1734804000@suckapunchproductions.com
SUMMARY:URETHANE LIVE AT SOLARIS
DESCRIPTION:URETHANE LIVE AT SOLARIS \n\nSat Dec 21 2024\n7:00 PM (Doors 6:00 PM)\n\n\nSolaris Beer & Blending\n41601B Cherry StreetMurrieta\, CA 92562
URL:https://suckapunchproductions.com/event/urethane-live-at-solaris/
LOCATION:Solaris Beer & Blending\, 41601B Cherry St\, Murrieta\, CA\, 92562
CATEGORIES:live art,live music,networking
ATTACH;FMTTYPE=image/jpeg:https://suckapunchproductions.com/wp-content/uploads/2024/11/3e74df90-46d6-4a8a-aac8-630d2861cd96-1.jpeg
END:VEVENT
BEGIN:VEVENT
DTSTART;TZID=UTC:20250126T200000
DTEND;TZID=UTC:20250126T233000
DTSTAMP:20260422T222129
CREATED:20241029T160854Z
LAST-MODIFIED:20241029T161956Z
UID:10000087-1737921600-1737934200@suckapunchproductions.com
SUMMARY:Black Flag
DESCRIPTION:Black FlagSun\, Jan 26\, 2025 at 08:00 PM PST at The Nile Theater\, Bakersfield\, CA
URL:https://suckapunchproductions.com/event/black-flag/
LOCATION:THE Nile\, The Nile Theater 1721 19th\, Bakersfield\, CA\, 93301\, United States
CATEGORIES:live art,live music
ATTACH;FMTTYPE=image/jpeg:https://suckapunchproductions.com/wp-content/uploads/2024/10/Black-Flag-Sun-Jan-26-2025-at-0800-PM-PST-at-The-Nile-Theater-Bakersfield-CA.jpg
END:VEVENT
BEGIN:VEVENT
DTSTART;TZID=UTC:20250216T170000
DTEND;TZID=UTC:20250216T220000
DTSTAMP:20260422T222129
CREATED:20250113T035942Z
LAST-MODIFIED:20250113T035943Z
UID:10000102-1739725200-1739743200@suckapunchproductions.com
SUMMARY:PENTAGRAM LIVE IN CONCERT AT SOLARIS IN MURRIETA
DESCRIPTION:PENTAGRAM LIVE IN CONCERT AT SOLARIS IN MURRIETA \n\n\n\nPENTAGRAM LIVE IN CONCERT AT SOLARIS IN MURRIETA\n\n\n\n\n\nInfo\n\n\n\nSun Feb 16 2025\n6:00 PM\n\n\nSolaris Beer & Blending\n41601B Cherry StreetMurrieta\, CA 92562
URL:https://suckapunchproductions.com/event/pentagram-live-in-concert-at-solaris-in-murrieta/
LOCATION:Solaris Beer & Blending\, 41601B Cherry St\, Murrieta\, CA\, 92562
CATEGORIES:live art
ATTACH;FMTTYPE=image/jpeg:https://suckapunchproductions.com/wp-content/uploads/2025/01/pentagrame-suckapunchproductions-.jpeg
END:VEVENT
BEGIN:VEVENT
DTSTART;TZID=UTC:20250301T193000
DTEND;TZID=UTC:20250301T233000
DTSTAMP:20260422T222129
CREATED:20240812T073711Z
LAST-MODIFIED:20240812T073711Z
UID:10000047-1740857400-1740871800@suckapunchproductions.com
SUMMARY:THE EXPLOITED LIVE IN CONCERT IN PALMDALE
DESCRIPTION:THE EXPLOITED LIVE IN CONCERT IN PALMDALE
URL:https://suckapunchproductions.com/event/the-exploited-live-in-concert-in-palmdale/
LOCATION:Transplants Brewing Company\, 40242 La Quinta Ln Unit 101\, Palmdale\, CA\, 93551
CATEGORIES:live art,live music
ATTACH;FMTTYPE=image/jpeg:https://suckapunchproductions.com/wp-content/uploads/2024/08/exploited-2025-tour-.jpeg
END:VEVENT
BEGIN:VEVENT
DTSTART;TZID=UTC:20250307T190000
DTEND;TZID=UTC:20250307T233000
DTSTAMP:20260422T222129
CREATED:20241211T234742Z
LAST-MODIFIED:20241211T234742Z
UID:10000096-1741374000-1741390200@suckapunchproductions.com
SUMMARY:METALACHI LIVE AT TRANSPLANTS BREWING
DESCRIPTION:METALACHI LIVE AT TRANSPLANTS BREWINGFri Mar 7 2025 8:00 PM (Doors 7:00 PM) Transplants Brewing Company 40242 La Quinta Ln Unit 101 Palmdale\, CA 93551
URL:https://suckapunchproductions.com/event/metalachi-live-at-transplants-brewing-2/
LOCATION:Transplants Brewing Company\, 40242 La Quinta Ln Unit 101\, Palmdale\, CA\, 93551
CATEGORIES:live art
ATTACH;FMTTYPE=image/jpeg:https://suckapunchproductions.com/wp-content/uploads/2024/12/metalachi-suckapunchproductions-.jpeg
END:VEVENT
BEGIN:VEVENT
DTSTART;TZID=UTC:20250308T200000
DTEND;TZID=UTC:20250308T233000
DTSTAMP:20260422T222129
CREATED:20241211T235620Z
LAST-MODIFIED:20241211T235620Z
UID:10000097-1741464000-1741476600@suckapunchproductions.com
SUMMARY:Metalachi Live at The Nile Theater\, Bakersfield\, CA
DESCRIPTION:METALACHI LIVE AT Sat\, Mar 8\, 2025 at 08:00 PM PST at The Nile Theater\, Bakersfield\, CA
URL:https://suckapunchproductions.com/event/metalachi-live-at-the-nile-theater-bakersfield-ca/
LOCATION:THE Nile\, The Nile Theater 1721 19th\, Bakersfield\, CA\, 93301\, United States
CATEGORIES:live art
ATTACH;FMTTYPE=image/jpeg:https://suckapunchproductions.com/wp-content/uploads/2024/12/metalachi-suckapunchproductions-.jpg
END:VEVENT
BEGIN:VEVENT
DTSTART;TZID=UTC:20250411T190000
DTEND;TZID=UTC:20250411T233000
DTSTAMP:20260422T222129
CREATED:20250207T193109Z
LAST-MODIFIED:20250321T192856Z
UID:10000105-1744398000-1744414200@suckapunchproductions.com
SUMMARY:RBL POSSE LIVE IN CONCERT AT 99 BOTTLES IN ANEHIEM
DESCRIPTION:RBL POSSE LIVE IN CONCERT AT 99 BOTTLES IN ANEHIEMFri Mar 28 20257:00 PM99 Bottles8901 Katella AveAnaheim\, CA 92804
URL:https://suckapunchproductions.com/event/rbl-posse-live-in-concert-at-99-bottles-in-anehiem/
LOCATION:CA
CATEGORIES:live art
END:VEVENT
BEGIN:VEVENT
DTSTART;TZID=UTC:20250523T190000
DTEND;TZID=UTC:20250523T233000
DTSTAMP:20260422T222129
CREATED:20250314T220410Z
LAST-MODIFIED:20250314T220532Z
UID:10000124-1748026800-1748043000@suckapunchproductions.com
SUMMARY:LAGRIMAS LIVE IN CONCERT AT SANCTUARY IN FRESNO
DESCRIPTION:LAGRIMAS LIVE IN CONCERT AT SANCTUARY IN FRESNO Fri May 23 20257:00 PMSanctuary712 Fulton AveFresno\, CA 93707
URL:https://suckapunchproductions.com/event/lagrimas-live-in-concert-at-sanctuary-in-fresno/
LOCATION:sanctuary\, 712 Fulton St\, Fresno\, CA\, 93721\, United States
CATEGORIES:live art,live music,networking
ATTACH;FMTTYPE=image/jpeg:https://suckapunchproductions.com/wp-content/uploads/2025/03/cf34f95f-a77e-49b1-bf84-7cd0c1438059.jpeg
END:VEVENT
END:VCALENDAR