BEGIN:VCALENDAR
VERSION:2.0
PRODID:-//Suckapunch Productions  - ECPv6.15.20//NONSGML v1.0//EN
CALSCALE:GREGORIAN
METHOD:PUBLISH
X-WR-CALNAME:Suckapunch Productions 
X-ORIGINAL-URL:https://suckapunchproductions.com
X-WR-CALDESC:Events for Suckapunch Productions 
REFRESH-INTERVAL;VALUE=DURATION:PT1H
X-Robots-Tag:noindex
X-PUBLISHED-TTL:PT1H
BEGIN:VTIMEZONE
TZID:UTC
BEGIN:STANDARD
TZOFFSETFROM:+0000
TZOFFSETTO:+0000
TZNAME:UTC
DTSTART:20250101T000000
END:STANDARD
END:VTIMEZONE
BEGIN:VEVENT
DTSTART;TZID=UTC:20260425T190000
DTEND;TZID=UTC:20260425T233000
DTSTAMP:20260422T100528
CREATED:20251229T035819Z
LAST-MODIFIED:20260127T200139Z
UID:10000248-1777143600-1777159800@suckapunchproductions.com
SUMMARY:KOTTONMOUTH KINGS LIVE AT THE SOUND LOUNGE 21+
DESCRIPTION:KOTTONMOUTH KINGS LIVE AT THE SOUND LOUNGE\n\n\nSat\, 25 Apr\, 7:30 PM\n\nDoors open\n7:00 PM PDT\n\nSound Lounge\n\n225 SE H St\, Grants Pass\, OR 97526
URL:https://suckapunchproductions.com/event/kottonmouth-kings-w-rbl-posse-2/
LOCATION:Sound Lounge\, 225 SE H st\, Grant's Pass Oregon\, OR\, 97526\, United States
ATTACH;FMTTYPE=image/jpeg:https://suckapunchproductions.com/wp-content/uploads/2025/12/KMK-TOUR-2.jpg
END:VEVENT
BEGIN:VEVENT
DTSTART;TZID=UTC:20260425T200000
DTEND;TZID=UTC:20260425T233000
DTSTAMP:20260422T100528
CREATED:20251223T220615Z
LAST-MODIFIED:20251223T220653Z
UID:10000237-1777147200-1777159800@suckapunchproductions.com
SUMMARY:T3r Elemento
DESCRIPTION:T3r Elemento\n\n\nSat\, 25 April\n\nDoors open\n8:00 PM PDT\n\n\n\n\n\n\nSanctuary\n\n712 Fulton Ave\, Fresno\, CA 93707
URL:https://suckapunchproductions.com/event/t3r-elemento/
LOCATION:sanctuary\, 712 Fulton St\, Fresno\, CA\, 93721\, United States
ATTACH;FMTTYPE=image/png:https://suckapunchproductions.com/wp-content/uploads/2025/12/t3r-.png
END:VEVENT
END:VCALENDAR