BEGIN:VCALENDAR
VERSION:2.0
PRODID:-//Suckapunch Productions  - ECPv6.15.20//NONSGML v1.0//EN
CALSCALE:GREGORIAN
METHOD:PUBLISH
X-WR-CALNAME:Suckapunch Productions 
X-ORIGINAL-URL:https://suckapunchproductions.com
X-WR-CALDESC:Events for Suckapunch Productions 
REFRESH-INTERVAL;VALUE=DURATION:PT1H
X-Robots-Tag:noindex
X-PUBLISHED-TTL:PT1H
BEGIN:VTIMEZONE
TZID:UTC
BEGIN:STANDARD
TZOFFSETFROM:+0000
TZOFFSETTO:+0000
TZNAME:UTC
DTSTART:20240101T000000
END:STANDARD
END:VTIMEZONE
BEGIN:VEVENT
DTSTART;TZID=UTC:20251108T140000
DTEND;TZID=UTC:20251108T233000
DTSTAMP:20260421T232133
CREATED:20251105T063455Z
LAST-MODIFIED:20251105T063538Z
UID:10000220-1762610400-1762644600@suckapunchproductions.com
SUMMARY:New West Coast Music Festival
DESCRIPTION:New West Coast Music Festival\nSat\, 8 Nov\, 2:00 PM \n3700 Ellison Dr NW\, Albuquerque\, NM 87114
URL:https://suckapunchproductions.com/event/new-west-coast-music-festival/
LOCATION:3700 Ellison Dr NW\, Albuquerque\, NM 87114\, 3700 Ellison Dr\, Albuquerque\, NM\, 87114\, United States
ATTACH;FMTTYPE=image/jpeg:https://suckapunchproductions.com/wp-content/uploads/2025/11/abq_new-copy_withgmoney.jpeg
END:VEVENT
END:VCALENDAR