BEGIN:VCALENDAR
VERSION:2.0
PRODID:-//Suckapunch Productions  - ECPv6.15.20//NONSGML v1.0//EN
CALSCALE:GREGORIAN
METHOD:PUBLISH
X-WR-CALNAME:Suckapunch Productions 
X-ORIGINAL-URL:https://suckapunchproductions.com
X-WR-CALDESC:Events for Suckapunch Productions 
REFRESH-INTERVAL;VALUE=DURATION:PT1H
X-Robots-Tag:noindex
X-PUBLISHED-TTL:PT1H
BEGIN:VTIMEZONE
TZID:UTC
BEGIN:STANDARD
TZOFFSETFROM:+0000
TZOFFSETTO:+0000
TZNAME:UTC
DTSTART:20240101T000000
END:STANDARD
END:VTIMEZONE
BEGIN:VEVENT
DTSTART;TZID=UTC:20250711T190000
DTEND;TZID=UTC:20250711T233000
DTSTAMP:20260422T164900
CREATED:20250413T231359Z
LAST-MODIFIED:20250605T222905Z
UID:10000141-1752260400-1752276600@suckapunchproductions.com
SUMMARY:NB RIDAZ WITH LIGHTER SHADE OF BROWN AT SOLARIS IN MURRIETA 1
DESCRIPTION:NB RIDAZ WITH LIGHTER SHADE OF BROWN AT SOLARIS 7:00 PMSolaris Beer & Blending41601B Cherry Street Murrieta\, CA 92562
URL:https://suckapunchproductions.com/event/nb-ridaz-with-lighter-shade-of-brown-at-solaris-in-murrieta/
LOCATION:Solaris Beer & Blending\, 41601B Cherry St\, Murrieta\, CA\, 92562
ATTACH;FMTTYPE=image/jpeg:https://suckapunchproductions.com/wp-content/uploads/2025/04/IMG_8031.jpeg
END:VEVENT
BEGIN:VEVENT
DTSTART;TZID=UTC:20250711T190000
DTEND;TZID=UTC:20250711T233000
DTSTAMP:20260422T164900
CREATED:20250523T185253Z
LAST-MODIFIED:20250620T022232Z
UID:10000167-1752260400-1752276600@suckapunchproductions.com
SUMMARY:Guttermouth With keep Flying Live in Concert at Transplants in Palmdale
DESCRIPTION:Fri Jul 11 2025\n7:30 PM (Doors 7:00 PM)\n\n\nTransplants Brewing Company\n40242 La Quinta Ln #101Palmdale\, CA 93551
URL:https://suckapunchproductions.com/event/guttermouth-live-in-concert-at-transplants-in-palmdale/
LOCATION:Transplants Brewing Company\, 40242 La Quinta Ln Unit 101\, Palmdale\, CA\, 93551
ATTACH;FMTTYPE=image/jpeg:https://suckapunchproductions.com/wp-content/uploads/2025/05/guttermouth-2.jpg
END:VEVENT
END:VCALENDAR