BEGIN:VCALENDAR
VERSION:2.0
PRODID:-//Suckapunch Productions  - ECPv6.15.20//NONSGML v1.0//EN
CALSCALE:GREGORIAN
METHOD:PUBLISH
X-WR-CALNAME:Suckapunch Productions 
X-ORIGINAL-URL:https://suckapunchproductions.com
X-WR-CALDESC:Events for Suckapunch Productions 
REFRESH-INTERVAL;VALUE=DURATION:PT1H
X-Robots-Tag:noindex
X-PUBLISHED-TTL:PT1H
BEGIN:VTIMEZONE
TZID:UTC
BEGIN:STANDARD
TZOFFSETFROM:+0000
TZOFFSETTO:+0000
TZNAME:UTC
DTSTART:20240101T000000
END:STANDARD
END:VTIMEZONE
BEGIN:VEVENT
DTSTART;TZID=UTC:20250524T180000
DTEND;TZID=UTC:20250524T223000
DTSTAMP:20260420T050450
CREATED:20250502T202652Z
LAST-MODIFIED:20250502T202652Z
UID:10000148-1748109600-1748125800@suckapunchproductions.com
SUMMARY:DI LIVE IN CONCERT WITH GUTTER POETS POINT ZERO AND NSA MAY 24
DESCRIPTION:DI LIVE IN CONCERT WITH GUTTER POETS POINT ZERO AND NSA MAY 24TH AT WESTLANE BREWERY IN TEHACHAPI Sat May 24 20256:00 PMWestlane Brewery207 East H StTehachapi\, CA 93561
URL:https://suckapunchproductions.com/event/di-live-in-concert-with-gutter-poets-point-zero-and-nsa-may-24/
LOCATION:westlane\, 207 east H street\, Tehachapi\,\, CA\, 93561\, United States
END:VEVENT
END:VCALENDAR