BEGIN:VCALENDAR
VERSION:2.0
PRODID:-//Suckapunch Productions  - ECPv6.15.20//NONSGML v1.0//EN
CALSCALE:GREGORIAN
METHOD:PUBLISH
X-WR-CALNAME:Suckapunch Productions 
X-ORIGINAL-URL:https://suckapunchproductions.com
X-WR-CALDESC:Events for Suckapunch Productions 
REFRESH-INTERVAL;VALUE=DURATION:PT1H
X-Robots-Tag:noindex
X-PUBLISHED-TTL:PT1H
BEGIN:VTIMEZONE
TZID:UTC
BEGIN:STANDARD
TZOFFSETFROM:+0000
TZOFFSETTO:+0000
TZNAME:UTC
DTSTART:20240101T000000
END:STANDARD
END:VTIMEZONE
BEGIN:VEVENT
DTSTART;TZID=UTC:20250518T190000
DTEND;TZID=UTC:20250518T233000
DTSTAMP:20260420T065154
CREATED:20250207T194339Z
LAST-MODIFIED:20250502T193611Z
UID:10000107-1747594800-1747611000@suckapunchproductions.com
SUMMARY:COCKNEY REJECTS LIVE IN CONCERT MAY 18TH AT THE VETS HALL IN SANTA CRUZ
DESCRIPTION:COCKNEY REJECTS LIVE IN CONCERT MAY 18TH AT THE VETS HALL IN SANTA CRUZ
URL:https://suckapunchproductions.com/event/cockney-rejects-live-in-concert-may-18th-at-the-vets-hall-in-santa-cruz/
LOCATION:Vets Hall Santa Cruz\, 846 Front St\, Santa Cruz\, CA\, 95060
END:VEVENT
BEGIN:VEVENT
DTSTART;TZID=UTC:20250518T190000
DTEND;TZID=UTC:20250518T233000
DTSTAMP:20260420T065154
CREATED:20250301T171724Z
LAST-MODIFIED:20250321T182009Z
UID:10000114-1747594800-1747611000@suckapunchproductions.com
SUMMARY:Immortal Technique Live in Concert at Brentwood Emporium Brentwood
DESCRIPTION:Immortal Technique Live in Concert at Brentwood Emporium Brentwood Sun May 18 20257:00 PMBrentwood Emporium561 1st StBrentwood\, CA 94513
URL:https://suckapunchproductions.com/event/immortal-technique-live-in-concert-at-brentwood-emporium-brentwood/
LOCATION:The Brentwood Emporium\, 561 1st St\, Brentwood\, CA\, 94513
ATTACH;FMTTYPE=image/jpeg:https://suckapunchproductions.com/wp-content/uploads/2025/03/8a19ed2d-6d19-4093-8237-4daff3e63a06.jpeg
END:VEVENT
END:VCALENDAR