BEGIN:VCALENDAR
VERSION:2.0
PRODID:-//Suckapunch Productions  - ECPv6.15.20//NONSGML v1.0//EN
CALSCALE:GREGORIAN
METHOD:PUBLISH
X-ORIGINAL-URL:https://suckapunchproductions.com
X-WR-CALDESC:Events for Suckapunch Productions 
REFRESH-INTERVAL;VALUE=DURATION:PT1H
X-Robots-Tag:noindex
X-PUBLISHED-TTL:PT1H
BEGIN:VTIMEZONE
TZID:UTC
BEGIN:STANDARD
TZOFFSETFROM:+0000
TZOFFSETTO:+0000
TZNAME:UTC
DTSTART:20240101T000000
END:STANDARD
END:VTIMEZONE
BEGIN:VEVENT
DTSTART;TZID=UTC:20250516T190000
DTEND;TZID=UTC:20250516T233000
DTSTAMP:20260420T065247
CREATED:20250313T044550Z
LAST-MODIFIED:20250313T044550Z
UID:10000122-1747422000-1747438200@suckapunchproductions.com
SUMMARY:Immortal Technique Live in Concert at The Sanctuary Fresno
DESCRIPTION:Immortal Technique Live in Concert at The Sanctuary Fresno Fri May 16 20257:00 PMSanctuary712 Fulton AveFresno\, CA 93707
URL:https://suckapunchproductions.com/event/immortal-technique-live-in-concert-at-the-sanctuary-fresno/
LOCATION:sanctuary\, 712 Fulton St\, Fresno\, CA\, 93721\, United States
ATTACH;FMTTYPE=image/jpeg:https://suckapunchproductions.com/wp-content/uploads/2025/03/8a19ed2d-6d19-4093-8237-4daff3e63a06.jpeg
END:VEVENT
BEGIN:VEVENT
DTSTART;TZID=UTC:20250516T200000
DTEND;TZID=UTC:20250516T230000
DTSTAMP:20260420T065247
CREATED:20250413T054744Z
LAST-MODIFIED:20250413T214244Z
UID:10000137-1747425600-1747436400@suckapunchproductions.com
SUMMARY:NB RIDAZ LIVE IN CONCERT AT TIKI PETE IN SAN JOSE
DESCRIPTION:NB RIDAZ LIVE IN CONCERT AT TIKI PETE IN SAN JOSE  Fri May 16 2025 8:00 PMTiki Pete23 N Market StSan Jose\, CA 95113 \n  \n 
URL:https://suckapunchproductions.com/event/nb-ridaz-live-in-concert-at-tiki-pete-in-san-jose/
LOCATION:Tiki Pete\, 23 N Market St\, San Jose\,\, ca\, 95113\, United States
END:VEVENT
END:VCALENDAR