BEGIN:VCALENDAR
VERSION:2.0
PRODID:-//Suckapunch Productions  - ECPv6.15.20//NONSGML v1.0//EN
CALSCALE:GREGORIAN
METHOD:PUBLISH
X-ORIGINAL-URL:https://suckapunchproductions.com
X-WR-CALDESC:Events for Suckapunch Productions 
REFRESH-INTERVAL;VALUE=DURATION:PT1H
X-Robots-Tag:noindex
X-PUBLISHED-TTL:PT1H
BEGIN:VTIMEZONE
TZID:UTC
BEGIN:STANDARD
TZOFFSETFROM:+0000
TZOFFSETTO:+0000
TZNAME:UTC
DTSTART:20240101T000000
END:STANDARD
END:VTIMEZONE
BEGIN:VEVENT
DTSTART;TZID=UTC:20250509T180000
DTEND;TZID=UTC:20250509T230000
DTSTAMP:20260420T070206
CREATED:20250413T052650Z
LAST-MODIFIED:20250413T053616Z
UID:10000136-1746813600-1746831600@suckapunchproductions.com
SUMMARY:GUTTERMOUTH LIVE IN CONCERT AT SOLARIS IN MURRIETA
DESCRIPTION:GUTTERMOUTH LIVE IN CONCERT AT SOLARIS IN MURRIETA Fri May 9 20256:00 PMSolaris Beer & Blending41601B Cherry StreetMurrieta\, CA 92562
URL:https://suckapunchproductions.com/event/guttermouth-live-in-concert-at-solaris-in-murrieta/
LOCATION:Solaris Beer & Blending\, 41601B Cherry St\, Murrieta\, CA\, 92562
END:VEVENT
BEGIN:VEVENT
DTSTART;TZID=UTC:20250509T190000
DTEND;TZID=UTC:20250509T233000
DTSTAMP:20260420T070206
CREATED:20250321T181225Z
LAST-MODIFIED:20250321T181335Z
UID:10000126-1746817200-1746833400@suckapunchproductions.com
SUMMARY:Ocho Kalacas With River Ratts Live in Concert at The Flyway in Pomona
DESCRIPTION:Ocho Kalacas With River Ratts Live in Concert at The Flyway in PomonaFri May 9 20257:00 PMFlyway345 S Garey AvePomona\, CA 91766
URL:https://suckapunchproductions.com/event/ocho-kalacas-with-river-ratts-live-in-concert-at-the-flyway-in-pomona/
LOCATION:Flyway Bar\, 345 S Garey Ave\, Pomona\, CA\, 91766
ATTACH;FMTTYPE=image/png:https://suckapunchproductions.com/wp-content/uploads/2025/03/ochco-.png
END:VEVENT
END:VCALENDAR