BEGIN:VCALENDAR
VERSION:2.0
PRODID:-//Suckapunch Productions  - ECPv6.15.20//NONSGML v1.0//EN
CALSCALE:GREGORIAN
METHOD:PUBLISH
X-ORIGINAL-URL:https://suckapunchproductions.com
X-WR-CALDESC:Events for Suckapunch Productions 
REFRESH-INTERVAL;VALUE=DURATION:PT1H
X-Robots-Tag:noindex
X-PUBLISHED-TTL:PT1H
BEGIN:VTIMEZONE
TZID:UTC
BEGIN:STANDARD
TZOFFSETFROM:+0000
TZOFFSETTO:+0000
TZNAME:UTC
DTSTART:20240101T000000
END:STANDARD
END:VTIMEZONE
BEGIN:VEVENT
DTSTART;TZID=UTC:20250503T180000
DTEND;TZID=UTC:20250503T233000
DTSTAMP:20260420T065252
CREATED:20250321T180358Z
LAST-MODIFIED:20250502T212101Z
UID:10000125-1746295200-1746315000@suckapunchproductions.com
SUMMARY:Ocho Kalacas With River Ratts Live in Concert at the Corazon del Barrio in San Diego
DESCRIPTION:Ocho Kalacas With River Ratts Live in Concert at the Corazon del Barrio in San Diego Sat May 3 20256:00 PMCorazon del Barrio2196 Logan AveSan Diego\, CA 92113
URL:https://suckapunchproductions.com/event/ocho-kalacas-with-river-ratts-live-in-concert-at-the-corazon-del-barrio-in-san-diego/
LOCATION:Corazon del Barrio\, 2196 Logan Ave San Diego\, CA 92113\, San Diego\, CA 92113\, ca\, 92113
ATTACH;FMTTYPE=image/png:https://suckapunchproductions.com/wp-content/uploads/2025/03/ochco-.png
END:VEVENT
END:VCALENDAR