BEGIN:VCALENDAR
VERSION:2.0
PRODID:-//Suckapunch Productions  - ECPv6.15.20//NONSGML v1.0//EN
CALSCALE:GREGORIAN
METHOD:PUBLISH
X-ORIGINAL-URL:https://suckapunchproductions.com
X-WR-CALDESC:Events for Suckapunch Productions 
REFRESH-INTERVAL;VALUE=DURATION:PT1H
X-Robots-Tag:noindex
X-PUBLISHED-TTL:PT1H
BEGIN:VTIMEZONE
TZID:UTC
BEGIN:STANDARD
TZOFFSETFROM:+0000
TZOFFSETTO:+0000
TZNAME:UTC
DTSTART:20240101T000000
END:STANDARD
END:VTIMEZONE
BEGIN:VEVENT
DTSTART;TZID=UTC:20250406T180000
DTEND;TZID=UTC:20250406T230000
DTSTAMP:20260420T083932
CREATED:20250301T164724Z
LAST-MODIFIED:20250321T175158Z
UID:10000112-1743962400-1743980400@suckapunchproductions.com
SUMMARY:T.S.O.L VCS AND UWC Live in Concert at Solaris in Murrieta
DESCRIPTION:JASON JOSHUA LIVE IN CONCERT AT TRANSPLANTS IN PALMDALE Sun Apr 6 20256:00 PMSolaris Beer & Blending41601B Cherry StreetMurrieta\, CA 92562
URL:https://suckapunchproductions.com/event/t-s-o-l-vcs-and-uwc-live-in-concert-at-solaris-in-murrieta/
LOCATION:Solaris Beer & Blending\, 41601B Cherry St\, Murrieta\, CA\, 92562
ATTACH;FMTTYPE=image/png:https://suckapunchproductions.com/wp-content/uploads/2025/03/tsol-suckapuch-.png
END:VEVENT
END:VCALENDAR