BEGIN:VCALENDAR
VERSION:2.0
PRODID:-//Suckapunch Productions  - ECPv6.15.20//NONSGML v1.0//EN
CALSCALE:GREGORIAN
METHOD:PUBLISH
X-ORIGINAL-URL:https://suckapunchproductions.com
X-WR-CALDESC:Events for Suckapunch Productions 
REFRESH-INTERVAL;VALUE=DURATION:PT1H
X-Robots-Tag:noindex
X-PUBLISHED-TTL:PT1H
BEGIN:VTIMEZONE
TZID:UTC
BEGIN:STANDARD
TZOFFSETFROM:+0000
TZOFFSETTO:+0000
TZNAME:UTC
DTSTART:20240101T000000
END:STANDARD
END:VTIMEZONE
BEGIN:VEVENT
DTSTART;TZID=UTC:20250328T200000
DTEND;TZID=UTC:20250328T233000
DTSTAMP:20260420T082035
CREATED:20250213T004201Z
LAST-MODIFIED:20250213T004201Z
UID:10000108-1743192000-1743204600@suckapunchproductions.com
SUMMARY:Andre Nickatina live In Brentwood
DESCRIPTION:Fri Mar 28 2025\n8:00 PM (Doors 7:00 PM)\n\n\nBrentwood Emporium\n561 1st StBrentwood\, CA 94513
URL:https://suckapunchproductions.com/event/andre-nickatina-live-in-brentwood/
LOCATION:The Brentwood Emporium\, 561 1st St\, Brentwood\, CA\, 94513
ATTACH;FMTTYPE=image/jpeg:https://suckapunchproductions.com/wp-content/uploads/2025/02/andre-nickatina-.jpeg
END:VEVENT
END:VCALENDAR