BEGIN:VCALENDAR
VERSION:2.0
PRODID:-//Suckapunch Productions  - ECPv6.15.20//NONSGML v1.0//EN
CALSCALE:GREGORIAN
METHOD:PUBLISH
X-WR-CALNAME:Suckapunch Productions 
X-ORIGINAL-URL:https://suckapunchproductions.com
X-WR-CALDESC:Events for Suckapunch Productions 
REFRESH-INTERVAL;VALUE=DURATION:PT1H
X-Robots-Tag:noindex
X-PUBLISHED-TTL:PT1H
BEGIN:VTIMEZONE
TZID:UTC
BEGIN:STANDARD
TZOFFSETFROM:+0000
TZOFFSETTO:+0000
TZNAME:UTC
DTSTART:20240101T000000
END:STANDARD
END:VTIMEZONE
BEGIN:VEVENT
DTSTART;TZID=UTC:20250309T190000
DTEND;TZID=UTC:20250309T233000
DTSTAMP:20260422T113117
CREATED:20240812T161028Z
LAST-MODIFIED:20240821T015950Z
UID:10000050-1741546800-1741563000@suckapunchproductions.com
SUMMARY:THE EXPLOITED LIVE IN CONCERT IN FRESNO
DESCRIPTION:THE EXPLOITED LIVE IN CONCERT IN FRESNO \n\nMarch 9\, 2025\n7:00 PM (Doors 7:00 PM)\n\n\nFull Circle Brewing\n712 Fulton St Fresno\, CA 93721
URL:https://suckapunchproductions.com/event/the-exploited-live-in-concert-in-fresno-suckapunchproductions/
LOCATION:Full Circle Brewing Co.\, 712 Fulton St\, Fresno\, CA\, 93721
CATEGORIES:live music
ATTACH;FMTTYPE=image/jpeg:https://suckapunchproductions.com/wp-content/uploads/2024/08/exploited-2025-tour-.jpeg
END:VEVENT
END:VCALENDAR