BEGIN:VCALENDAR
VERSION:2.0
PRODID:-//Suckapunch Productions  - ECPv6.15.20//NONSGML v1.0//EN
CALSCALE:GREGORIAN
METHOD:PUBLISH
X-WR-CALNAME:Suckapunch Productions 
X-ORIGINAL-URL:https://suckapunchproductions.com
X-WR-CALDESC:Events for Suckapunch Productions 
REFRESH-INTERVAL;VALUE=DURATION:PT1H
X-Robots-Tag:noindex
X-PUBLISHED-TTL:PT1H
BEGIN:VTIMEZONE
TZID:UTC
BEGIN:STANDARD
TZOFFSETFROM:+0000
TZOFFSETTO:+0000
TZNAME:UTC
DTSTART:20240101T000000
END:STANDARD
END:VTIMEZONE
BEGIN:VEVENT
DTSTART;TZID=UTC:20250111T190000
DTEND;TZID=UTC:20250111T233000
DTSTAMP:20260422T113236
CREATED:20240812T062452Z
LAST-MODIFIED:20241024T163223Z
UID:10000042-1736622000-1736638200@suckapunchproductions.com
SUMMARY:BLACK FLAG PERFORMING THE FIRST 4 ALBUMS LIVE IN CONCERT AT THE VETS HALL IN SANTA CRUZ
DESCRIPTION:BLACK FLAG PERFORMING THE FIRST 4 ALBUMS LIVE IN CONCERT AT THE VETS HALL IN SANTA CRUZ \n\nJanuary 11\, 2025\n7:00 PM\n\n\nSanta Cruz Veterans Hall\n846 Front Street Santa Cruz\, CA 95060
URL:https://suckapunchproductions.com/event/black-flag-performing-the-first-4-albums-live-in-concert-at-the-vets-hall-in-santa-cruz/
LOCATION:Vets Hall Santa Cruz\, 846 Front St\, Santa Cruz\, CA\, 95060
CATEGORIES:live music
ATTACH;FMTTYPE=image/jpeg:https://suckapunchproductions.com/wp-content/uploads/2024/08/462636571_585579973809947_4874318998210994147_n-scaled.jpg
END:VEVENT
BEGIN:VEVENT
DTSTART;TZID=UTC:20250111T190000
DTEND;TZID=UTC:20250111T233000
DTSTAMP:20260422T113236
CREATED:20241001T205229Z
LAST-MODIFIED:20241001T205229Z
UID:10000071-1736622000-1736638200@suckapunchproductions.com
SUMMARY:LIVE IN CONCERT VENOM INC AT FULL CIRCLE BREWING
DESCRIPTION:LIVE IN CONCERT VENOM INC AT FULL CIRCLE BREWING Sat Jan 11 20257:00 PM DoorsFull Circle Brewing712 Fulton StFresno\, CA 93721
URL:https://suckapunchproductions.com/event/live-in-concert-venom-inc-at-full-circle-brewing/
LOCATION:Full Circle Brewing Co.\, 712 Fulton St\, Fresno\, CA\, 93721
CATEGORIES:live music
ATTACH;FMTTYPE=image/jpeg:https://suckapunchproductions.com/wp-content/uploads/2024/10/venom-ink-suckapunch-productions-.jpg
END:VEVENT
END:VCALENDAR