BEGIN:VCALENDAR
VERSION:2.0
PRODID:-//Suckapunch Productions  - ECPv6.15.20//NONSGML v1.0//EN
CALSCALE:GREGORIAN
METHOD:PUBLISH
X-ORIGINAL-URL:https://suckapunchproductions.com
X-WR-CALDESC:Events for Suckapunch Productions 
REFRESH-INTERVAL;VALUE=DURATION:PT1H
X-Robots-Tag:noindex
X-PUBLISHED-TTL:PT1H
BEGIN:VTIMEZONE
TZID:UTC
BEGIN:STANDARD
TZOFFSETFROM:+0000
TZOFFSETTO:+0000
TZNAME:UTC
DTSTART:20230101T000000
END:STANDARD
END:VTIMEZONE
BEGIN:VEVENT
DTSTART;TZID=UTC:20241116T190000
DTEND;TZID=UTC:20241116T233000
DTSTAMP:20260422T220632
CREATED:20240927T021133Z
LAST-MODIFIED:20241028T162056Z
UID:10000067-1731783600-1731799800@suckapunchproductions.com
SUMMARY:FEAR LIVE IN CONCERT NOV 16TH AT THE RINK STUDIOS IN SACRAMENTO
DESCRIPTION:Sat Nov 16 20247:00 PMThe Rink Studios1031 Del Paso Blvd Sacramento\, CA 95815
URL:https://suckapunchproductions.com/event/fear-the-rink-studios/
LOCATION:THE RINK STUDIOS\, 1031 DEL PASO BLVD\, sacramento\, CA\, United States
ATTACH;FMTTYPE=image/png:https://suckapunchproductions.com/wp-content/uploads/2024/09/462577586_2572058093003424_7882723578127400421_n.png
END:VEVENT
END:VCALENDAR