BEGIN:VCALENDAR
VERSION:2.0
PRODID:-//Suckapunch Productions  - ECPv6.15.20//NONSGML v1.0//EN
CALSCALE:GREGORIAN
METHOD:PUBLISH
X-WR-CALNAME:Suckapunch Productions 
X-ORIGINAL-URL:https://suckapunchproductions.com
X-WR-CALDESC:Events for Suckapunch Productions 
REFRESH-INTERVAL;VALUE=DURATION:PT1H
X-Robots-Tag:noindex
X-PUBLISHED-TTL:PT1H
BEGIN:VTIMEZONE
TZID:UTC
BEGIN:STANDARD
TZOFFSETFROM:+0000
TZOFFSETTO:+0000
TZNAME:UTC
DTSTART:20230101T000000
END:STANDARD
END:VTIMEZONE
BEGIN:VEVENT
DTSTART;TZID=UTC:20241115T180000
DTEND;TZID=UTC:20241115T180000
DTSTAMP:20260422T220636
CREATED:20241022T005249Z
LAST-MODIFIED:20241022T005255Z
UID:10000084-1731693600-1731693600@suckapunchproductions.com
SUMMARY:BO HENDERSON OF THE STYLISTICS AT BASTARDS IN TEMECULA
DESCRIPTION:BO HENDERSON OF THE STYLISTICS AT BASTARDS IN TEMECULA \n\nFriday\, Nov 15 2024\n6:00 PM\n\n\nBastards Canteen\n27717 Jefferson Ave Temecula\, CA 92590
URL:https://suckapunchproductions.com/event/bo-henderson-of-the-stylistics-at-bastards-in-temecula/
LOCATION:Bastards Canteen\, 27717 Jefferson Ave\, Temecula\, CA\, 92590
CATEGORIES:live music
ATTACH;FMTTYPE=image/jpeg:https://suckapunchproductions.com/wp-content/uploads/2024/10/462264246_1617801008776754_9101683117024350199_n.jpg
END:VEVENT
BEGIN:VEVENT
DTSTART;TZID=UTC:20241115T200000
DTEND;TZID=UTC:20241115T233000
DTSTAMP:20260422T220636
CREATED:20241104T192110Z
LAST-MODIFIED:20241104T192252Z
UID:10000088-1731700800-1731713400@suckapunchproductions.com
SUMMARY:Psychadelica
DESCRIPTION:PsychadelicaFri\, Nov 15 at 09:00 PM PST at The Nile Theater\, Bakersfield\, CAThe Psychedelic Touring Rave. Global / House / Techno / Bass \nThe Psychedelic Touring Rave. Global / House / Techno / Bass \nFri\, Nov 15 at 09:00 PM PST at The Nile Theater\, Bakersfield\, CA
URL:https://suckapunchproductions.com/event/psychadelica/
LOCATION:THE Nile\, The Nile Theater 1721 19th\, Bakersfield\, CA\, 93301\, United States
CATEGORIES:live art,live music
ATTACH;FMTTYPE=image/jpeg:https://suckapunchproductions.com/wp-content/uploads/2024/11/Messenger_creation_9E798190-C189-4953-8A3E-DFAF1BEF2883-1.jpeg
END:VEVENT
END:VCALENDAR