BEGIN:VCALENDAR
VERSION:2.0
PRODID:-//Suckapunch Productions  - ECPv6.15.20//NONSGML v1.0//EN
CALSCALE:GREGORIAN
METHOD:PUBLISH
X-ORIGINAL-URL:https://suckapunchproductions.com
X-WR-CALDESC:Events for Suckapunch Productions 
REFRESH-INTERVAL;VALUE=DURATION:PT1H
X-Robots-Tag:noindex
X-PUBLISHED-TTL:PT1H
BEGIN:VTIMEZONE
TZID:UTC
BEGIN:STANDARD
TZOFFSETFROM:+0000
TZOFFSETTO:+0000
TZNAME:UTC
DTSTART:20230101T000000
END:STANDARD
END:VTIMEZONE
BEGIN:VEVENT
DTSTART;TZID=UTC:20241110T200000
DTEND;TZID=UTC:20241110T200000
DTSTAMP:20260422T220632
CREATED:20241007T180626Z
LAST-MODIFIED:20241024T162350Z
UID:10000078-1731268800-1731268800@suckapunchproductions.com
SUMMARY:LIVE IN CONCERT T.S.O.L AT BRENT WOOD EMPORIUM
DESCRIPTION:LIVE IN CONCERT T.S.O.L AT BRENT WOOD EMPORIUM \n\nSunday\, Nov 10 2024\n8:00 PM (Doors 7:00 PM)\n\n\nBrentwood Emporium\n561 1st St Brentwood\, CA 94513
URL:https://suckapunchproductions.com/event/live-in-concert-t-s-o-l-at-brent-wood-emporium/
LOCATION:The Brentwood Emporium\, 561 1st St\, Brentwood\, CA\, 94513
END:VEVENT
END:VCALENDAR