BEGIN:VCALENDAR
VERSION:2.0
PRODID:-//Suckapunch Productions  - ECPv6.15.20//NONSGML v1.0//EN
CALSCALE:GREGORIAN
METHOD:PUBLISH
X-WR-CALNAME:Suckapunch Productions 
X-ORIGINAL-URL:https://suckapunchproductions.com
X-WR-CALDESC:Events for Suckapunch Productions 
REFRESH-INTERVAL;VALUE=DURATION:PT1H
X-Robots-Tag:noindex
X-PUBLISHED-TTL:PT1H
BEGIN:VTIMEZONE
TZID:UTC
BEGIN:STANDARD
TZOFFSETFROM:+0000
TZOFFSETTO:+0000
TZNAME:UTC
DTSTART:20250101T000000
END:STANDARD
END:VTIMEZONE
BEGIN:VEVENT
DTSTART;TZID=UTC:20260328T200000
DTEND;TZID=UTC:20260328T233000
DTSTAMP:20260419T173749
CREATED:20260206T171645Z
LAST-MODIFIED:20260304T042737Z
UID:11229-1774728000-1774740600@suckapunchproductions.com
SUMMARY:Too $hort & Afroman Live In Lancaster At The AV Event Center
DESCRIPTION:Too $hort Live In Lancaster At The AV Event Center\n\n\nSat\, 28 Mar\, 8:00 PM\n\nAV EVENT CENTER\n\n45000 Valley Central Way\, Lancaster\, CA 93534
URL:https://suckapunchproductions.com/event/too-hort-live-in-lancaster-at-the-av-event-center/
LOCATION:A.V. Event Center\, 45000 Vly Central Wy\, Lancaster\, CA\, 93536
ATTACH;FMTTYPE=image/jpeg:https://suckapunchproductions.com/wp-content/uploads/2026/02/too-short-afro-man-.jpg
END:VEVENT
END:VCALENDAR