BEGIN:VCALENDAR
VERSION:2.0
PRODID:-//Suckapunch Productions  - ECPv6.15.20//NONSGML v1.0//EN
CALSCALE:GREGORIAN
METHOD:PUBLISH
X-WR-CALNAME:Suckapunch Productions 
X-ORIGINAL-URL:https://suckapunchproductions.com
X-WR-CALDESC:Events for Suckapunch Productions 
REFRESH-INTERVAL;VALUE=DURATION:PT1H
X-Robots-Tag:noindex
X-PUBLISHED-TTL:PT1H
BEGIN:VTIMEZONE
TZID:UTC
BEGIN:STANDARD
TZOFFSETFROM:+0000
TZOFFSETTO:+0000
TZNAME:UTC
DTSTART:20250101T000000
END:STANDARD
END:VTIMEZONE
BEGIN:VEVENT
DTSTART;TZID=UTC:20260222T180000
DTEND;TZID=UTC:20260222T233000
DTSTAMP:20260419T130612
CREATED:20260202T211804Z
LAST-MODIFIED:20260218T002140Z
UID:11225-1771783200-1771803000@suckapunchproductions.com
SUMMARY:THE QUEERS LIVE IN CONCERT AT SOLARIS IN MURRIETA
DESCRIPTION:THE QUEERS LIVE IN CONCERT AT SOLARIS IN MURRIETA\nSun\, 22 Feb\, 6:00 PM\nSolaris Beer & Blending\n\n41601B Cherry Street\, Murrieta\, CA 92562
URL:https://suckapunchproductions.com/event/the-queers-live-in-concert-at-solaris-in-murrieta/
LOCATION:Solaris Beer & Blending\, 41601B Cherry St\, Murrieta\, CA\, 92562
ATTACH;FMTTYPE=image/jpeg:https://suckapunchproductions.com/wp-content/uploads/2026/02/Attachment.jpeg
END:VEVENT
END:VCALENDAR