BEGIN:VCALENDAR
VERSION:2.0
PRODID:-//Suckapunch Productions  - ECPv6.15.20//NONSGML v1.0//EN
CALSCALE:GREGORIAN
METHOD:PUBLISH
X-WR-CALNAME:Suckapunch Productions 
X-ORIGINAL-URL:https://suckapunchproductions.com
X-WR-CALDESC:Events for Suckapunch Productions 
REFRESH-INTERVAL;VALUE=DURATION:PT1H
X-Robots-Tag:noindex
X-PUBLISHED-TTL:PT1H
BEGIN:VTIMEZONE
TZID:UTC
BEGIN:STANDARD
TZOFFSETFROM:+0000
TZOFFSETTO:+0000
TZNAME:UTC
DTSTART:20250101T000000
END:STANDARD
END:VTIMEZONE
BEGIN:VEVENT
DTSTART;TZID=UTC:20260417T193000
DTEND;TZID=UTC:20260417T233000
DTSTAMP:20260421T111633
CREATED:20260302T043524Z
LAST-MODIFIED:20260302T043558Z
UID:11247-1776454200-1776468600@suckapunchproductions.com
SUMMARY:Nb Ridaz Live In Corazon Del Barrio
DESCRIPTION:Nb Ridaz Live In Corazon Del Barrio\n\n\nFri\, 17 Apr\, 7:30 PM PDT\n\nDoors open\n7:00 PM\n\nCorazon del Barrio\n\n2196 Logan Ave\, San Diego\, CA 92113
URL:https://suckapunchproductions.com/event/nb-ridaz-live-in-corazon-del-barrio/
LOCATION:Corazon del Barrio\, 2196 Logan Ave San Diego\, CA 92113\, San Diego\, CA 92113\, ca\, 92113
ATTACH;FMTTYPE=image/jpeg:https://suckapunchproductions.com/wp-content/uploads/2026/03/1000035189.jpg
END:VEVENT
END:VCALENDAR