BEGIN:VCALENDAR
VERSION:2.0
PRODID:-//Suckapunch Productions  - ECPv6.15.20//NONSGML v1.0//EN
CALSCALE:GREGORIAN
METHOD:PUBLISH
X-WR-CALNAME:Suckapunch Productions 
X-ORIGINAL-URL:https://suckapunchproductions.com
X-WR-CALDESC:Events for Suckapunch Productions 
REFRESH-INTERVAL;VALUE=DURATION:PT1H
X-Robots-Tag:noindex
X-PUBLISHED-TTL:PT1H
BEGIN:VTIMEZONE
TZID:UTC
BEGIN:STANDARD
TZOFFSETFROM:+0000
TZOFFSETTO:+0000
TZNAME:UTC
DTSTART:20250101T000000
END:STANDARD
END:VTIMEZONE
BEGIN:VEVENT
DTSTART;TZID=UTC:20260724T200000
DTEND;TZID=UTC:20260724T233000
DTSTAMP:20260420T052232
CREATED:20260419T183956Z
LAST-MODIFIED:20260419T184028Z
UID:11354-1784923200-1784935800@suckapunchproductions.com
SUMMARY:Lefty Gunplay Live At Solaris
DESCRIPTION:‘ \n\nLefty Gunplay Live At Solaris\n\n\nFri\, 24 Jul\, 8:30 PM PDT\n\nDoors open\n8:00 PM\n\nSolaris Beer & Blending\n\n41601B Cherry Street\, Murrieta\, CA 92562
URL:https://suckapunchproductions.com/event/lefty-gunplay-live-at-solaris/
LOCATION:Solaris Beer & Blending\, 41601B Cherry St\, Murrieta\, CA\, 92562
ATTACH;FMTTYPE=image/jpeg:https://suckapunchproductions.com/wp-content/uploads/2026/04/lefty-gun-play-.jpeg
END:VEVENT
END:VCALENDAR