BEGIN:VCALENDAR
VERSION:2.0
PRODID:-//Suckapunch Productions  - ECPv6.15.20//NONSGML v1.0//EN
CALSCALE:GREGORIAN
METHOD:PUBLISH
X-WR-CALNAME:Suckapunch Productions 
X-ORIGINAL-URL:https://suckapunchproductions.com
X-WR-CALDESC:Events for Suckapunch Productions 
REFRESH-INTERVAL;VALUE=DURATION:PT1H
X-Robots-Tag:noindex
X-PUBLISHED-TTL:PT1H
BEGIN:VTIMEZONE
TZID:UTC
BEGIN:STANDARD
TZOFFSETFROM:+0000
TZOFFSETTO:+0000
TZNAME:UTC
DTSTART:20240101T000000
END:STANDARD
END:VTIMEZONE
BEGIN:VEVENT
DTSTART;TZID=UTC:20251205T193000
DTEND;TZID=UTC:20251205T233000
DTSTAMP:20260421T081205
CREATED:20251104T023209Z
LAST-MODIFIED:20251104T023209Z
UID:11013-1764963000-1764977400@suckapunchproductions.com
SUMMARY:Kottonmouth Kings at Transplants in Palmdale
DESCRIPTION:Kottonmouth Kings at Transplants in Palmdale \nFri\, 5 Dec\, 8:00 PM PST  \n40242 La Quinta Ln #101\, Palmdale\, CA 93551
URL:https://suckapunchproductions.com/event/kottonmouth-kings-at-transplants-in-palmdale/
LOCATION:Transplants Brewing Company\, 40242 La Quinta Ln Unit 101\, Palmdale\, CA\, 93551
ATTACH;FMTTYPE=image/jpeg:https://suckapunchproductions.com/wp-content/uploads/2025/11/IMG_9349.jpeg
END:VEVENT
END:VCALENDAR