BEGIN:VCALENDAR
VERSION:2.0
PRODID:-//Suckapunch Productions  - ECPv6.15.20//NONSGML v1.0//EN
CALSCALE:GREGORIAN
METHOD:PUBLISH
X-WR-CALNAME:Suckapunch Productions 
X-ORIGINAL-URL:https://suckapunchproductions.com
X-WR-CALDESC:Events for Suckapunch Productions 
REFRESH-INTERVAL;VALUE=DURATION:PT1H
X-Robots-Tag:noindex
X-PUBLISHED-TTL:PT1H
BEGIN:VTIMEZONE
TZID:UTC
BEGIN:STANDARD
TZOFFSETFROM:+0000
TZOFFSETTO:+0000
TZNAME:UTC
DTSTART:20240101T000000
END:STANDARD
END:VTIMEZONE
BEGIN:VEVENT
DTSTART;TZID=UTC:20250725T190000
DTEND;TZID=UTC:20250725T230000
DTSTAMP:20260421T105158
CREATED:20250630T005434Z
LAST-MODIFIED:20250724T235525Z
UID:10845-1753470000-1753484400@suckapunchproductions.com
SUMMARY:DAYGLO ABORTIONS WITH THE BROTHELS NO CONSENT 21 GUN SALUTE STILL PIST
DESCRIPTION:  \nDAYGLO ABORTIONS  Fri Jul 25 2025                                                   7:00 PM                                                     Fox 301 S Garey Ave\, Pomona\, CA 91766 \n 
URL:https://suckapunchproductions.com/event/dayglo-abortions-with-the-brothels-no-consent-21-gun-salute-still-pist/
LOCATION:Fox Theater\, 301 s Garey\, pamona\, ca\, 91766\, United States
ATTACH;FMTTYPE=image/jpeg:https://suckapunchproductions.com/wp-content/uploads/2025/06/dayglow-.jpg
END:VEVENT
END:VCALENDAR