BEGIN:VCALENDAR
VERSION:2.0
PRODID:-//Suckapunch Productions  - ECPv6.15.20//NONSGML v1.0//EN
CALSCALE:GREGORIAN
METHOD:PUBLISH
X-WR-CALNAME:Suckapunch Productions 
X-ORIGINAL-URL:https://suckapunchproductions.com
X-WR-CALDESC:Events for Suckapunch Productions 
REFRESH-INTERVAL;VALUE=DURATION:PT1H
X-Robots-Tag:noindex
X-PUBLISHED-TTL:PT1H
BEGIN:VTIMEZONE
TZID:UTC
BEGIN:STANDARD
TZOFFSETFROM:+0000
TZOFFSETTO:+0000
TZNAME:UTC
DTSTART:20250101T000000
END:STANDARD
END:VTIMEZONE
BEGIN:VEVENT
DTSTART;TZID=UTC:20260417T190000
DTEND;TZID=UTC:20260417T233000
DTSTAMP:20260421T092738
CREATED:20260302T054936Z
LAST-MODIFIED:20260302T054936Z
UID:11267-1776452400-1776468600@suckapunchproductions.com
SUMMARY:BLACK FLAG IN BAKERSFIELD AT JERRYS PIZZA
DESCRIPTION:BLACK FLAG IN BAKERSFIELD AT JERRYS PIZZA\n\n\nFri\, 17 Apr\, 7:00 PM\n\nJerry’s Pizza\n\n1817 Chester Ave\, Bakersfield\, CA 93301
URL:https://suckapunchproductions.com/event/black-flag-in-bakersfield-at-jerrys-pizza/
LOCATION:Jerrys Pizza & Pub\, 1817 Chester Ave\, Bakersfield\, CA\, 93301
ATTACH;FMTTYPE=image/jpeg:https://suckapunchproductions.com/wp-content/uploads/2026/03/Attachment-17.jpeg
END:VEVENT
END:VCALENDAR