BEGIN:VCALENDAR
VERSION:2.0
PRODID:-//Suckapunch Productions  - ECPv6.15.20//NONSGML v1.0//EN
CALSCALE:GREGORIAN
METHOD:PUBLISH
X-WR-CALNAME:Suckapunch Productions 
X-ORIGINAL-URL:https://suckapunchproductions.com
X-WR-CALDESC:Events for Suckapunch Productions 
REFRESH-INTERVAL;VALUE=DURATION:PT1H
X-Robots-Tag:noindex
X-PUBLISHED-TTL:PT1H
BEGIN:VTIMEZONE
TZID:UTC
BEGIN:STANDARD
TZOFFSETFROM:+0000
TZOFFSETTO:+0000
TZNAME:UTC
DTSTART:20240101T000000
END:STANDARD
END:VTIMEZONE
BEGIN:VEVENT
DTSTART;TZID=UTC:20250824T120000
DTEND;TZID=UTC:20250824T180000
DTSTAMP:20260421T105200
CREATED:20250531T181812Z
LAST-MODIFIED:20250531T181857Z
UID:10742-1756036800-1756058400@suckapunchproductions.com
SUMMARY:End Of Worlds  (FREE TO PUBLIC)
DESCRIPTION:End Of Worlds\n\nSun Aug 24 2025\n12:00 PM\n\n\nTransplants Brewing Company\n40242 La Quinta Ln #101Palmdale\, CA 93551 \n\n\nAll Ages\n\n 
URL:https://suckapunchproductions.com/event/10742/
LOCATION:Transplants Brewing Company\, 40242 La Quinta Ln Unit 101\, Palmdale\, CA\, 93551
ATTACH;FMTTYPE=image/jpeg:https://suckapunchproductions.com/wp-content/uploads/2025/05/08242025-End-Of-Worlds-Ticketweb.jpg
END:VEVENT
END:VCALENDAR